BEGIN:VCALENDAR
VERSION:2.0
PRODID:-//College of Applied Biologists - ECPv6.15.18//NONSGML v1.0//EN
CALSCALE:GREGORIAN
METHOD:PUBLISH
X-WR-CALNAME:College of Applied Biologists
X-ORIGINAL-URL:https://cab-bc.org
X-WR-CALDESC:Events for College of Applied Biologists
REFRESH-INTERVAL;VALUE=DURATION:PT1H
X-Robots-Tag:noindex
X-PUBLISHED-TTL:PT1H
BEGIN:VTIMEZONE
TZID:America/Vancouver
BEGIN:DAYLIGHT
TZOFFSETFROM:-0800
TZOFFSETTO:-0700
TZNAME:PDT
DTSTART:20230312T100000
END:DAYLIGHT
BEGIN:STANDARD
TZOFFSETFROM:-0700
TZOFFSETTO:-0800
TZNAME:PST
DTSTART:20231105T090000
END:STANDARD
BEGIN:DAYLIGHT
TZOFFSETFROM:-0800
TZOFFSETTO:-0700
TZNAME:PDT
DTSTART:20240310T100000
END:DAYLIGHT
BEGIN:STANDARD
TZOFFSETFROM:-0700
TZOFFSETTO:-0800
TZNAME:PST
DTSTART:20241103T090000
END:STANDARD
BEGIN:DAYLIGHT
TZOFFSETFROM:-0800
TZOFFSETTO:-0700
TZNAME:PDT
DTSTART:20250309T100000
END:DAYLIGHT
BEGIN:STANDARD
TZOFFSETFROM:-0700
TZOFFSETTO:-0800
TZNAME:PST
DTSTART:20251102T090000
END:STANDARD
BEGIN:DAYLIGHT
TZOFFSETFROM:-0800
TZOFFSETTO:-0700
TZNAME:PDT
DTSTART:20260308T100000
END:DAYLIGHT
BEGIN:STANDARD
TZOFFSETFROM:-0700
TZOFFSETTO:-0800
TZNAME:PST
DTSTART:20261101T090000
END:STANDARD
END:VTIMEZONE
BEGIN:VEVENT
DTSTART;VALUE=DATE:20250510
DTEND;VALUE=DATE:20250512
DTSTAMP:20260424T154924
CREATED:20250328T211846Z
LAST-MODIFIED:20250328T212525Z
UID:10000591-1746835200-1747007999@cab-bc.org
SUMMARY:Mini Bee School Nanaimo
DESCRIPTION:This two-day course is a fantastic way to spend a spring weekend\, learning about native bee biology and identification with a whole classroom filled with other bee lovers. We have one classroom day looking at  bee specimens under low power digital microscopes and a field day learning about bee survey techniques and observing rare bees and plants in local Gary Oak ecosystem. You will learn common bees to genera\, and common bumble bees to species\, as well as learning about sociality\, nesting\, and pollen preferences. \nFacebook link: https://www.facebook.com/share/p/15FtJ5JYxX/ \nInstagram link: https://www.instagram.com/p/DHERGZcvCft/
URL:https://cab-bc.org/event/mini-bee-school-nanaimo/
LOCATION:Nanaimo\, BC
END:VEVENT
BEGIN:VEVENT
DTSTART;TZID=America/Vancouver:20250505T090000
DTEND;TZID=America/Vancouver:20250606T170000
DTSTAMP:20260424T154924
CREATED:20250130T174840Z
LAST-MODIFIED:20250130T174840Z
UID:10000522-1746435600-1749229200@cab-bc.org
SUMMARY:Environmental Technician Certificate Program
DESCRIPTION:The Environmental Technician Certificate Program (ETCP) is a five-week\, 200-hour accredited training program that prepares graduates to work as certified environmental monitors in natural resource sectors. The program is suitable for current and aspiring environmental technicians wishing to update and expand their skills and abilities.
URL:https://cab-bc.org/event/environmental-technician-certificate-program-4/
LOCATION:Nanaimo\, BC
ORGANIZER;CN="Vancouver Island University%2C Natural Resources Extension Program":MAILTO:NREP@viu.ca
END:VEVENT
BEGIN:VEVENT
DTSTART;VALUE=DATE:20240610
DTEND;VALUE=DATE:20240615
DTSTAMP:20260424T154924
CREATED:20240429T231415Z
LAST-MODIFIED:20240429T231415Z
UID:10000298-1717977600-1718409599@cab-bc.org
SUMMARY:Fish Health Level 2: Practical Fish Health Techniques for Aquaculture & Fisheries Ecology
DESCRIPTION:This intensive five-day course presented by the Natural Resources Extension Program at VIU focuses on practical skill development associated with fish health techniques for aquaculture (hatcheries and net pen) and aquarium fishes. Topics include animal welfare (including anesthetic use\, blood collection and fish tagging)\, fish anatomy\, recognition of common disease symptoms and testing for harmful algae blooms (HABs). Upon completion\, students will be able to describe the diagnosis\, pathology and treatment of major aquatic diseases.
URL:https://cab-bc.org/event/fish-health-level-2-practical-fish-health-techniques-for-aquaculture-fisheries-ecology/
LOCATION:Nanaimo\, BC
ORGANIZER;CN="Vancouver Island University%2C Natural Resources Extension Program":MAILTO:NREP@viu.ca
END:VEVENT
BEGIN:VEVENT
DTSTART;VALUE=DATE:20240521
DTEND;VALUE=DATE:20240523
DTSTAMP:20260424T154924
CREATED:20240429T230544Z
LAST-MODIFIED:20240429T230544Z
UID:10000296-1716249600-1716422399@cab-bc.org
SUMMARY:Electrofishing: Theory\, Safety and Uses
DESCRIPTION:This two-day certification course presented by the Natural Resources Extension Program at VIU is an overview of electrofishing theory\, safety and practices. The program meets current provincial Worker’s Compensation Board (WCB) requirements for electrofisher certification.
URL:https://cab-bc.org/event/electrofishing-theory-safety-and-uses/
LOCATION:Nanaimo\, BC
ORGANIZER;CN="Vancouver Island University%2C Natural Resources Extension Program":MAILTO:NREP@viu.ca
END:VEVENT
BEGIN:VEVENT
DTSTART;VALUE=DATE:20240429
DTEND;VALUE=DATE:20240601
DTSTAMP:20260424T154924
CREATED:20240229T002844Z
LAST-MODIFIED:20240229T002844Z
UID:10000243-1714348800-1717199999@cab-bc.org
SUMMARY:Environmental Technician Certificate Program
DESCRIPTION:Presented by the Natural Resources Extension Program at VIU\, the Environmental Technician Certificate Program (ETCP) is a five-week\, 200-hour accredited training program that prepares graduates to work as certified environmental monitors in natural resource sectors. The ETCP program consists of highly applied training sessions\, with field training taking place most days.
URL:https://cab-bc.org/event/environmental-technician-certificate-program-2/
LOCATION:Nanaimo\, BC
ORGANIZER;CN="Vancouver Island University%2C Natural Resources Extension Program":MAILTO:NREP@viu.ca
END:VEVENT
END:VCALENDAR