BEGIN:VCALENDAR
VERSION:2.0
PRODID:-//College of Applied Biologists - ECPv6.15.18//NONSGML v1.0//EN
CALSCALE:GREGORIAN
METHOD:PUBLISH
X-WR-CALNAME:College of Applied Biologists
X-ORIGINAL-URL:https://cab-bc.org
X-WR-CALDESC:Events for College of Applied Biologists
REFRESH-INTERVAL;VALUE=DURATION:PT1H
X-Robots-Tag:noindex
X-PUBLISHED-TTL:PT1H
BEGIN:VTIMEZONE
TZID:America/Vancouver
BEGIN:DAYLIGHT
TZOFFSETFROM:-0800
TZOFFSETTO:-0700
TZNAME:PDT
DTSTART:20230312T100000
END:DAYLIGHT
BEGIN:STANDARD
TZOFFSETFROM:-0700
TZOFFSETTO:-0800
TZNAME:PST
DTSTART:20231105T090000
END:STANDARD
BEGIN:DAYLIGHT
TZOFFSETFROM:-0800
TZOFFSETTO:-0700
TZNAME:PDT
DTSTART:20240310T100000
END:DAYLIGHT
BEGIN:STANDARD
TZOFFSETFROM:-0700
TZOFFSETTO:-0800
TZNAME:PST
DTSTART:20241103T090000
END:STANDARD
BEGIN:DAYLIGHT
TZOFFSETFROM:-0800
TZOFFSETTO:-0700
TZNAME:PDT
DTSTART:20250309T100000
END:DAYLIGHT
BEGIN:STANDARD
TZOFFSETFROM:-0700
TZOFFSETTO:-0800
TZNAME:PST
DTSTART:20251102T090000
END:STANDARD
END:VTIMEZONE
BEGIN:VEVENT
DTSTART;TZID=America/Vancouver:20240824T073000
DTEND;TZID=America/Vancouver:20240824T093000
DTSTAMP:20260424T094348
CREATED:20240624T215914Z
LAST-MODIFIED:20240624T215914Z
UID:10000386-1724484600-1724491800@cab-bc.org
SUMMARY:Hummingbird Banding
DESCRIPTION:Join the Vancouver Avian Research Centre for an exciting and educational experience to observe and study these tiny\, but mighty creatures. VARC’s experts will demonstrate the delicate process of safely extracting birds\, banding\, and releasing hummingbirds. Participants will have the opportunity to witness their unique behaviours\, understand the importance of monitoring bird populations\, and learn about the crucial role that hummingbirds play in our ecosystem.
URL:https://cab-bc.org/event/hummingbird-banding-5/
LOCATION:Colony Farm Banding Station\, Port Conquitlam\, BC\, Canada
END:VEVENT
BEGIN:VEVENT
DTSTART;TZID=America/Vancouver:20240727T070000
DTEND;TZID=America/Vancouver:20240727T090000
DTSTAMP:20260424T094348
CREATED:20240527T225006Z
LAST-MODIFIED:20240527T225006Z
UID:10000358-1722063600-1722070800@cab-bc.org
SUMMARY:Hummingbird Banding
DESCRIPTION:Join the Vancouver Avian Research Centre for an exciting and educational experience to observe and study these tiny\, but mighty creatures. VARC’s experts will demonstrate the delicate process of safely extracting birds\, banding\, and releasing hummingbirds. Participants will have the opportunity to witness their unique behaviours\, understand the importance of monitoring bird populations\, and learn about the crucial role that hummingbirds play in our ecosystem.
URL:https://cab-bc.org/event/hummingbird-banding-4/
LOCATION:Colony Farm Banding Station\, Port Conquitlam\, BC\, Canada
END:VEVENT
BEGIN:VEVENT
DTSTART;TZID=America/Vancouver:20240608T070000
DTEND;TZID=America/Vancouver:20240608T090000
DTSTAMP:20260424T094348
CREATED:20240527T224759Z
LAST-MODIFIED:20240527T224759Z
UID:10000357-1717830000-1717837200@cab-bc.org
SUMMARY:Hummingbird Banding
DESCRIPTION:Join the Vancouver Avian Research Centre for an exciting and educational experience to observe and study these tiny\, but mighty creatures. VARC’s experts will demonstrate the delicate process of safely extracting birds\, banding\, and releasing hummingbirds. Participants will have the opportunity to witness their unique behaviours\, understand the importance of monitoring bird populations\, and learn about the crucial role that hummingbirds play in our ecosystem.
URL:https://cab-bc.org/event/hummingbird-banding-3/
LOCATION:Colony Farm Banding Station\, Port Conquitlam\, BC\, Canada
END:VEVENT
BEGIN:VEVENT
DTSTART;TZID=America/Vancouver:20240622T070000
DTEND;TZID=America/Vancouver:20240622T090000
DTSTAMP:20260424T094348
CREATED:20240430T171457Z
LAST-MODIFIED:20240430T171457Z
UID:10000314-1719039600-1719046800@cab-bc.org
SUMMARY:Hummingbird Banding
DESCRIPTION:Join the Vancouver Avian Research Centre for an exciting and educational experience to observe and study these tiny\, but mighty creatures. VARC’s experts will demonstrate the delicate process of safely extracting birds\, banding\, and releasing hummingbirds. Participants will have the opportunity to witness their unique behaviours\, understand the importance of monitoring bird populations\, and learn about the crucial role that hummingbirds play in our ecosystem.
URL:https://cab-bc.org/event/hummingbird-banding-2/
LOCATION:Colony Farm Banding Station\, Port Conquitlam\, BC\, Canada
END:VEVENT
BEGIN:VEVENT
DTSTART;TZID=America/Vancouver:20240525T073000
DTEND;TZID=America/Vancouver:20240525T093000
DTSTAMP:20260424T094348
CREATED:20240430T170310Z
LAST-MODIFIED:20240430T170310Z
UID:10000311-1716622200-1716629400@cab-bc.org
SUMMARY:Hummingbird Banding
DESCRIPTION:Join the Vancouver Avian Research Centre for an exciting and educational experience to observe and study these tiny\, but mighty creatures. VARC’s experts will demonstrate the delicate process of safely extracting birds\, banding\, and releasing hummingbirds. Participants will have the opportunity to witness their unique behaviours\, understand the importance of monitoring bird populations\, and learn about the crucial role that hummingbirds play in our ecosystem.
URL:https://cab-bc.org/event/hummingbird-banding/
LOCATION:Colony Farm Banding Station\, Port Conquitlam\, BC\, Canada
END:VEVENT
END:VCALENDAR