BEGIN:VCALENDAR
VERSION:2.0
PRODID:-//College of Applied Biologists - ECPv6.15.18//NONSGML v1.0//EN
CALSCALE:GREGORIAN
METHOD:PUBLISH
X-WR-CALNAME:College of Applied Biologists
X-ORIGINAL-URL:https://cab-bc.org
X-WR-CALDESC:Events for College of Applied Biologists
REFRESH-INTERVAL;VALUE=DURATION:PT1H
X-Robots-Tag:noindex
X-PUBLISHED-TTL:PT1H
BEGIN:VTIMEZONE
TZID:America/Vancouver
BEGIN:DAYLIGHT
TZOFFSETFROM:-0800
TZOFFSETTO:-0700
TZNAME:PDT
DTSTART:20230312T100000
END:DAYLIGHT
BEGIN:STANDARD
TZOFFSETFROM:-0700
TZOFFSETTO:-0800
TZNAME:PST
DTSTART:20231105T090000
END:STANDARD
BEGIN:DAYLIGHT
TZOFFSETFROM:-0800
TZOFFSETTO:-0700
TZNAME:PDT
DTSTART:20240310T100000
END:DAYLIGHT
BEGIN:STANDARD
TZOFFSETFROM:-0700
TZOFFSETTO:-0800
TZNAME:PST
DTSTART:20241103T090000
END:STANDARD
BEGIN:DAYLIGHT
TZOFFSETFROM:-0800
TZOFFSETTO:-0700
TZNAME:PDT
DTSTART:20250309T100000
END:DAYLIGHT
BEGIN:STANDARD
TZOFFSETFROM:-0700
TZOFFSETTO:-0800
TZNAME:PST
DTSTART:20251102T090000
END:STANDARD
BEGIN:DAYLIGHT
TZOFFSETFROM:-0800
TZOFFSETTO:-0700
TZNAME:PDT
DTSTART:20260308T100000
END:DAYLIGHT
BEGIN:STANDARD
TZOFFSETFROM:-0700
TZOFFSETTO:-0800
TZNAME:PST
DTSTART:20261101T090000
END:STANDARD
END:VTIMEZONE
BEGIN:VEVENT
DTSTART;VALUE=DATE:20250923
DTEND;VALUE=DATE:20250927
DTSTAMP:20260424T134528
CREATED:20250903T175843Z
LAST-MODIFIED:20250903T175843Z
UID:10000686-1758585600-1758931199@cab-bc.org
SUMMARY:Fish Health Level 1: Introduction to Basic Fish Health Management
DESCRIPTION:The Natural Resources Extension Program at VIU offers three levels of Fish Health training. Level 1 introduces key principles of fish health management for aquaculture and aquarium species. Subsequent levels build on this foundation\, with Level 3 focusing on applied techniques for detecting and diagnosing bacterial pathogens. Each level is delivered as a separate five-day course and must be completed in sequence (e.g.\, Level 2 is a prerequisite for Level 3). \nThis is a synchronous online course delivered via TEAMS.
URL:https://cab-bc.org/event/fish-health-level-1-introduction-to-basic-fish-health-management-4/
LOCATION:Online
ORGANIZER;CN="Vancouver Island University%2C Natural Resources Extension Program":MAILTO:NREP@viu.ca
END:VEVENT
BEGIN:VEVENT
DTSTART;TZID=America/Vancouver:20250310T090000
DTEND;TZID=America/Vancouver:20250314T170000
DTSTAMP:20260424T134528
CREATED:20250130T183754Z
LAST-MODIFIED:20250130T183754Z
UID:10000530-1741597200-1741971600@cab-bc.org
SUMMARY:Indigenous Mapping for Stewardship and Cultural Heritage Management
DESCRIPTION:This five-day course is designed for anyone working to ground Indigenous stewardship programs in community knowledge\, oral history\, ethnography\, and mapping.
URL:https://cab-bc.org/event/indigenous-mapping-for-stewardship-and-cultural-heritage-management-4/
LOCATION:Victoria\, BC\, Victoria\, BC\, Canada
ORGANIZER;CN="Vancouver Island University%2C Natural Resources Extension Program":MAILTO:NREP@viu.ca
END:VEVENT
BEGIN:VEVENT
DTSTART;TZID=America/Vancouver:20250506T090000
DTEND;TZID=America/Vancouver:20250509T160000
DTSTAMP:20260424T134528
CREATED:20250130T183510Z
LAST-MODIFIED:20250130T183510Z
UID:10000529-1746522000-1746806400@cab-bc.org
SUMMARY:Riparian Areas Protection Regulation
DESCRIPTION:This four-day theoretical and practical course introduces participants to the purpose and application of the Riparian Areas Protection Regulation (RAPR)\, including the roles and responsibilities of government\, the proponent\, and the Qualified Environmental Professional (QEP).
URL:https://cab-bc.org/event/riparian-areas-protection-regulation-14/
LOCATION:Online/North Vancouver\, BC
ORGANIZER;CN="Vancouver Island University%2C Natural Resources Extension Program":MAILTO:NREP@viu.ca
END:VEVENT
BEGIN:VEVENT
DTSTART;TZID=America/Vancouver:20250422T090000
DTEND;TZID=America/Vancouver:20250425T160000
DTSTAMP:20260424T134528
CREATED:20250130T183303Z
LAST-MODIFIED:20250130T183303Z
UID:10000528-1745312400-1745596800@cab-bc.org
SUMMARY:Riparian Areas Protection Regulation
DESCRIPTION:This four-day theoretical and practical course introduces participants to the purpose and application of the Riparian Areas Protection Regulation (RAPR)\, including the roles and responsibilities of government\, the proponent\, and the Qualified Environmental Professional (QEP).
URL:https://cab-bc.org/event/riparian-areas-protection-regulation-13/
LOCATION:Online /Penticton BC\, Canada
ORGANIZER;CN="Vancouver Island University%2C Natural Resources Extension Program":MAILTO:NREP@viu.ca
END:VEVENT
BEGIN:VEVENT
DTSTART;TZID=America/Vancouver:20250422T090000
DTEND;TZID=America/Vancouver:20250425T160000
DTSTAMP:20260424T134528
CREATED:20250130T183047Z
LAST-MODIFIED:20250130T183047Z
UID:10000527-1745312400-1745596800@cab-bc.org
SUMMARY:Riparian Areas Protection Regulation
DESCRIPTION:This four-day theoretical and practical course introduces participants to the purpose and application of the Riparian Areas Protection Regulation (RAPR)\, including the roles and responsibilities of government\, the proponent\, and the Qualified Environmental Professional (QEP).
URL:https://cab-bc.org/event/riparian-areas-protection-regulation-12/
LOCATION:Online /Nanaimo BC\, Canada
ORGANIZER;CN="Vancouver Island University%2C Natural Resources Extension Program":MAILTO:NREP@viu.ca
END:VEVENT
BEGIN:VEVENT
DTSTART;TZID=America/Vancouver:20250318T090000
DTEND;TZID=America/Vancouver:20250321T160000
DTSTAMP:20260424T134528
CREATED:20250130T182723Z
LAST-MODIFIED:20250130T182723Z
UID:10000526-1742288400-1742572800@cab-bc.org
SUMMARY:Riparian Areas Protection Regulation
DESCRIPTION:This four-day theoretical and practical course introduces participants to the purpose and application of the Riparian Areas Protection Regulation (RAPR)\, including the roles and responsibilities of government\, the proponent\, and the Qualified Environmental Professional (QEP).
URL:https://cab-bc.org/event/riparian-areas-protection-regulation-11/
LOCATION:Online/North Vancouver\, BC
ORGANIZER;CN="Vancouver Island University%2C Natural Resources Extension Program":MAILTO:NREP@viu.ca
END:VEVENT
BEGIN:VEVENT
DTSTART;TZID=America/Vancouver:20250225T090000
DTEND;TZID=America/Vancouver:20250228T160000
DTSTAMP:20260424T134528
CREATED:20250130T180103Z
LAST-MODIFIED:20250130T180103Z
UID:10000525-1740474000-1740758400@cab-bc.org
SUMMARY:Riparian Areas Protection Regulation
DESCRIPTION:This four-day theoretical and practical course introduces participants to the purpose and application of the Riparian Areas Protection Regulation (RAPR)\, including the roles and responsibilities of government\, the proponent\, and the Qualified Environmental Professional (QEP).
URL:https://cab-bc.org/event/riparian-areas-protection-regulation-10/
LOCATION:Online/North Vancouver\, BC
ORGANIZER;CN="Vancouver Island University%2C Natural Resources Extension Program":MAILTO:NREP@viu.ca
END:VEVENT
BEGIN:VEVENT
DTSTART;TZID=America/Vancouver:20250520T090000
DTEND;TZID=America/Vancouver:20250522T170000
DTSTAMP:20260424T134528
CREATED:20250130T175539Z
LAST-MODIFIED:20250130T175837Z
UID:10000524-1747731600-1747933200@cab-bc.org
SUMMARY:of Erosion And Sediment Control (3-Day)
DESCRIPTION:This course provides a comprehensive\, applied overview of skills\, abilities and procedures required for effective erosion and sediment control planning\, construction and maintenance.
URL:https://cab-bc.org/event/of-erosion-and-sediment-control-3-day/
LOCATION:Langley\, BC\, Canada
ORGANIZER;CN="Vancouver Island University%2C Natural Resources Extension Program":MAILTO:NREP@viu.ca
END:VEVENT
BEGIN:VEVENT
DTSTART;TZID=America/Vancouver:20250408T090000
DTEND;TZID=America/Vancouver:20250410T170000
DTSTAMP:20260424T134528
CREATED:20250130T175147Z
LAST-MODIFIED:20250130T175147Z
UID:10000523-1744102800-1744304400@cab-bc.org
SUMMARY:Erosion And Sediment Control (3-Day)
DESCRIPTION:This course provides a comprehensive\, applied overview of skills\, abilities and procedures required for effective erosion and sediment control planning\, construction and maintenance.
URL:https://cab-bc.org/event/erosion-and-sediment-control-3-day/
LOCATION:Langley\, BC\, Canada
ORGANIZER;CN="Vancouver Island University%2C Natural Resources Extension Program":MAILTO:NREP@viu.ca
END:VEVENT
BEGIN:VEVENT
DTSTART;TZID=America/Vancouver:20250505T090000
DTEND;TZID=America/Vancouver:20250606T170000
DTSTAMP:20260424T134528
CREATED:20250130T174840Z
LAST-MODIFIED:20250130T174840Z
UID:10000522-1746435600-1749229200@cab-bc.org
SUMMARY:Environmental Technician Certificate Program
DESCRIPTION:The Environmental Technician Certificate Program (ETCP) is a five-week\, 200-hour accredited training program that prepares graduates to work as certified environmental monitors in natural resource sectors. The program is suitable for current and aspiring environmental technicians wishing to update and expand their skills and abilities.
URL:https://cab-bc.org/event/environmental-technician-certificate-program-4/
LOCATION:Nanaimo\, BC
ORGANIZER;CN="Vancouver Island University%2C Natural Resources Extension Program":MAILTO:NREP@viu.ca
END:VEVENT
BEGIN:VEVENT
DTSTART;TZID=America/Vancouver:20250224T090000
DTEND;TZID=America/Vancouver:20250328T170000
DTSTAMP:20260424T134528
CREATED:20250130T174540Z
LAST-MODIFIED:20250130T174540Z
UID:10000521-1740387600-1743181200@cab-bc.org
SUMMARY:Environmental Technician Certificate Program
DESCRIPTION:The Environmental Technician Certificate Program (ETCP) is a five-week\, 200-hour accredited training program that prepares graduates to work as certified environmental monitors in natural resource sectors. The program is suitable for current and aspiring environmental technicians wishing to update and expand their skills and abilities.
URL:https://cab-bc.org/event/environmental-technician-certificate-program-3/
LOCATION:North Vancouver\, BC\, North Vancouver\, BC
ORGANIZER;CN="Vancouver Island University%2C Natural Resources Extension Program":MAILTO:NREP@viu.ca
END:VEVENT
BEGIN:VEVENT
DTSTART;TZID=America/Vancouver:20250402T090000
DTEND;TZID=America/Vancouver:20250403T170000
DTSTAMP:20260424T134528
CREATED:20250130T173544Z
LAST-MODIFIED:20250130T173933Z
UID:10000520-1743584400-1743699600@cab-bc.org
SUMMARY:Electrofishing: Theory\, Safety and Uses
DESCRIPTION:This two-day certification course is an overview of electrofishing theory\, safety and practices. The program meets current provincial Worker’s Compensation Board (WCB) requirements for electrofisher certification.
URL:https://cab-bc.org/event/electrofishing-theory-safety-and-uses-5/
LOCATION:Nanaimo\, BC- Field Session\, British Columbia\, Canada
ORGANIZER;CN="Vancouver Island University%2C Natural Resources Extension Program":MAILTO:NREP@viu.ca
END:VEVENT
BEGIN:VEVENT
DTSTART;TZID=America/Vancouver:20250312T090000
DTEND;TZID=America/Vancouver:20250313T170000
DTSTAMP:20260424T134528
CREATED:20250130T172835Z
LAST-MODIFIED:20250130T173805Z
UID:10000519-1741770000-1741885200@cab-bc.org
SUMMARY:Electrofishing: Theory\, Safety and Uses
DESCRIPTION:This two-day certification course is an overview of electrofishing theory\, safety and practices. The program meets current provincial Worker’s Compensation Board (WCB) requirements for electrofisher certification.
URL:https://cab-bc.org/event/electrofishing-theory-safety-and-uses-4/
LOCATION:North Vancouver\, BC – Field Session
ORGANIZER;CN="Vancouver Island University%2C Natural Resources Extension Program":MAILTO:NREP@viu.ca
END:VEVENT
BEGIN:VEVENT
DTSTART;TZID=America/Vancouver:20250304T090000
DTEND;TZID=America/Vancouver:20250307T170000
DTSTAMP:20260424T134528
CREATED:20250130T172450Z
LAST-MODIFIED:20250130T173105Z
UID:10000518-1741078800-1741366800@cab-bc.org
SUMMARY:Fish Health Level 1: Introduction to Basic Fish Health Management
DESCRIPTION:VIU’s Natural Resources Extension Program offers three levels of Fish Health training. Beginning with a focus on the key principles of fish health management for aquaculture and aquarium fishes at level 1\, the courses ladder up to highly applied training on advanced techniques for the detection and diagnosis of bacterial pathogens at level 3. While each level is delivered as its own distinct five-day course\, they must be taken sequentially (for example\, level 2 is a prerequisite for attending level 3).
URL:https://cab-bc.org/event/fish-health-level-1-introduction-to-basic-fish-health-management-3/
LOCATION:Online
ORGANIZER;CN="Vancouver Island University%2C Natural Resources Extension Program":MAILTO:NREP@viu.ca
END:VEVENT
BEGIN:VEVENT
DTSTART;VALUE=DATE:20241028
DTEND;VALUE=DATE:20241130
DTSTAMP:20260424T134528
CREATED:20241001T203028Z
LAST-MODIFIED:20241001T203028Z
UID:10000473-1730073600-1732924799@cab-bc.org
SUMMARY:Environmental Technician Certificate Program
DESCRIPTION:Presented by the Natural Resources Extension Program at VIU\, the Environmental Technician Certificate Program (ETCP) is a five-week\, 200-hour accredited training program that prepares graduates to work as certified environmental monitors in natural resource sectors. The ETCP program consists of highly applied training sessions\, with field training taking place most days.
URL:https://cab-bc.org/event/environmental-technician-certificate-program/
LOCATION:Deroche\, Deroche\, BC\, Canada
ORGANIZER;CN="Vancouver Island University%2C Natural Resources Extension Program":MAILTO:NREP@viu.ca
END:VEVENT
BEGIN:VEVENT
DTSTART;VALUE=DATE:20241105
DTEND;VALUE=DATE:20241108
DTSTAMP:20260424T134528
CREATED:20240830T203758Z
LAST-MODIFIED:20240830T203758Z
UID:10000454-1730764800-1731023999@cab-bc.org
SUMMARY:Water Quality Monitoring: Freshwater Sampling and Design
DESCRIPTION:The intent of the water quality monitoring course is to provide participants with knowledge required in order to understand the design of programs for effluents and fresh water\, and to sample safely\, properly\, and with the ability to obtain the best scientifically-defensible results. This will be accomplished through the use of case studies and exercises which will reinforce the principles developed in the classroom. Presented by the Natural Resources Extension Program at VIU.
URL:https://cab-bc.org/event/water-quality-monitoring-freshwater-sampling-and-design-2/
LOCATION:North Vancouver\, BC\, North Vancouver\, BC
ORGANIZER;CN="Vancouver Island University%2C Natural Resources Extension Program":MAILTO:NREP@viu.ca
END:VEVENT
BEGIN:VEVENT
DTSTART;VALUE=DATE:20241021
DTEND;VALUE=DATE:20241026
DTSTAMP:20260424T134528
CREATED:20240830T203619Z
LAST-MODIFIED:20240830T203619Z
UID:10000453-1729468800-1729900799@cab-bc.org
SUMMARY:Indigenous Mapping for Stewardship and Cultural Heritage Management
DESCRIPTION:Presented by the Natural Resources Extension Program at VIU\, this five-day course is designed for anyone working to ground Indigenous stewardship programs in community knowledge\, oral history\, ethnography\, and mapping. This might include Indigenous stewardship staffs\, their allies\, and government / industry partners. Participants will design\, conduct\, and review a mock traditional land use study based on content relevant to participants’ work and interests.
URL:https://cab-bc.org/event/indigenous-mapping-for-stewardship-and-cultural-heritage-management-3/
LOCATION:North Vancouver\, BC\, North Vancouver\, BC
ORGANIZER;CN="Vancouver Island University%2C Natural Resources Extension Program":MAILTO:NREP@viu.ca
END:VEVENT
BEGIN:VEVENT
DTSTART;VALUE=DATE:20241203
DTEND;VALUE=DATE:20241207
DTSTAMP:20260424T134528
CREATED:20240830T203413Z
LAST-MODIFIED:20240830T203413Z
UID:10000452-1733184000-1733529599@cab-bc.org
SUMMARY:Riparian Areas Protection Regulation
DESCRIPTION:This four-day theoretical and practical course presented by the Natural Resources Extension Program at Vancouver Island University introduces participants to the purpose and application of the Riparian Areas Protection Regulation (RAPR)\, including the roles and responsibilities of government\, the proponent\, and the Qualified Environmental Professional (QEP). Participants also learn to complete a field assessment and follow reporting procedures\, including electronic submission requirements.
URL:https://cab-bc.org/event/riparian-areas-protection-regulation-9/
LOCATION:Online/Nanaimo\, Nanaimo\, BC\, Canada
ORGANIZER;CN="Vancouver Island University%2C Natural Resources Extension Program":MAILTO:NREP@viu.ca
END:VEVENT
BEGIN:VEVENT
DTSTART;VALUE=DATE:20241112
DTEND;VALUE=DATE:20241116
DTSTAMP:20260424T134528
CREATED:20240830T203321Z
LAST-MODIFIED:20240830T203321Z
UID:10000451-1731369600-1731715199@cab-bc.org
SUMMARY:Riparian Areas Protection Regulation
DESCRIPTION:This four-day theoretical and practical course presented by the Natural Resources Extension Program at Vancouver Island University introduces participants to the purpose and application of the Riparian Areas Protection Regulation (RAPR)\, including the roles and responsibilities of government\, the proponent\, and the Qualified Environmental Professional (QEP). Participants also learn to complete a field assessment and follow reporting procedures\, including electronic submission requirements.
URL:https://cab-bc.org/event/riparian-areas-protection-regulation-8/
LOCATION:Online/North Vancouver\, BC
ORGANIZER;CN="Vancouver Island University%2C Natural Resources Extension Program":MAILTO:NREP@viu.ca
END:VEVENT
BEGIN:VEVENT
DTSTART;VALUE=DATE:20241022
DTEND;VALUE=DATE:20241026
DTSTAMP:20260424T134528
CREATED:20240830T203151Z
LAST-MODIFIED:20240830T203151Z
UID:10000450-1729555200-1729900799@cab-bc.org
SUMMARY:Riparian Areas Protection Regulation
DESCRIPTION:This four-day theoretical and practical course presented by the Natural Resources Extension Program at Vancouver Island University introduces participants to the purpose and application of the Riparian Areas Protection Regulation (RAPR)\, including the roles and responsibilities of government\, the proponent\, and the Qualified Environmental Professional (QEP). Participants also learn to complete a field assessment and follow reporting procedures\, including electronic submission requirements.
URL:https://cab-bc.org/event/riparian-areas-protection-regulation-7/
LOCATION:Online/Nanaimo\, Nanaimo\, BC\, Canada
ORGANIZER;CN="Vancouver Island University%2C Natural Resources Extension Program":MAILTO:NREP@viu.ca
END:VEVENT
BEGIN:VEVENT
DTSTART;VALUE=DATE:20240924
DTEND;VALUE=DATE:20240928
DTSTAMP:20260424T134528
CREATED:20240830T203004Z
LAST-MODIFIED:20240830T203004Z
UID:10000449-1727136000-1727481599@cab-bc.org
SUMMARY:Riparian Areas Protection Regulation
DESCRIPTION:This four-day theoretical and practical course presented by the Natural Resources Extension Program at Vancouver Island University introduces participants to the purpose and application of the Riparian Areas Protection Regulation (RAPR)\, including the roles and responsibilities of government\, the proponent\, and the Qualified Environmental Professional (QEP). Participants also learn to complete a field assessment and follow reporting procedures\, including electronic submission requirements.
URL:https://cab-bc.org/event/riparian-areas-protection-regulation-6/
LOCATION:Online/North Vancouver\, BC
ORGANIZER;CN="Vancouver Island University%2C Natural Resources Extension Program":MAILTO:NREP@viu.ca
END:VEVENT
BEGIN:VEVENT
DTSTART;VALUE=DATE:20241112
DTEND;VALUE=DATE:20241116
DTSTAMP:20260424T134528
CREATED:20240830T202658Z
LAST-MODIFIED:20240830T202658Z
UID:10000448-1731369600-1731715199@cab-bc.org
SUMMARY:Fish Health Level 1: Introduction to Basic Fish Health Management
DESCRIPTION:This course offered by VIU’s Natural Resources Extension Program focuses on the key principles of fish health management for aquaculture (hatcheries and net pen) and aquarium fishes. The theoretical components emphasize recognition of what is ‘non-normal’ in fish husbandry settings\, along with covering types of diseases (i.e.\, environmental\, pathogenic\, parasitic or genetic)\, prevention and mitigation\, and proper techniques for fish sampling and biosecurity.
URL:https://cab-bc.org/event/fish-health-level-1-introduction-to-basic-fish-health-management/
LOCATION:Online
ORGANIZER;CN="Vancouver Island University%2C Natural Resources Extension Program":MAILTO:NREP@viu.ca
END:VEVENT
BEGIN:VEVENT
DTSTART;VALUE=DATE:20240911
DTEND;VALUE=DATE:20240913
DTSTAMP:20260424T134528
CREATED:20240830T202206Z
LAST-MODIFIED:20240830T202206Z
UID:10000447-1726012800-1726185599@cab-bc.org
SUMMARY:Electrofishing: Theory\, Safety and Uses
DESCRIPTION:This two-day certification course presented by the Natural Resources Extension Program at VIU is an overview of electrofishing theory\, safety and practices. The program meets current provincial Worker’s Compensation Board (WCB) requirements for electrofisher certification.
URL:https://cab-bc.org/event/electrofishing-theory-safety-and-uses-3/
LOCATION:North Vancouver\, BC\, North Vancouver\, BC
ORGANIZER;CN="Vancouver Island University%2C Natural Resources Extension Program":MAILTO:NREP@viu.ca
END:VEVENT
BEGIN:VEVENT
DTSTART;VALUE=DATE:20241119
DTEND;VALUE=DATE:20241122
DTSTAMP:20260424T134528
CREATED:20240830T201827Z
LAST-MODIFIED:20240830T201827Z
UID:10000446-1731974400-1732233599@cab-bc.org
SUMMARY:Stream-Based Channel Assessments
DESCRIPTION:This course presented by the Natural Resources Extension Program at VIU provides an introduction on how to recognize and classify channels based on their form and function. Students will learn how to recognize and measure important stream features and will practice field techniques for conducting standard field measurements.
URL:https://cab-bc.org/event/stream-based-channel-assessments-2/
ORGANIZER;CN="Vancouver Island University%2C Natural Resources Extension Program":MAILTO:NREP@viu.ca
END:VEVENT
BEGIN:VEVENT
DTSTART;VALUE=DATE:20240917
DTEND;VALUE=DATE:20240920
DTSTAMP:20260424T134528
CREATED:20240830T201524Z
LAST-MODIFIED:20240830T201524Z
UID:10000445-1726531200-1726790399@cab-bc.org
SUMMARY:Environmental Monitoring for Construction Projects
DESCRIPTION:This course delivered by the Natural Resources Extension Program at VIU will train participants to effectively design\, manage\, conduct and report for environmental monitoring programs for a wide variety of applications throughout Western Canada\, such as stream crossing installations\, pipeline development\, land development\, etc.
URL:https://cab-bc.org/event/environmental-monitoring-for-construction-projects-2/
LOCATION:Abbotsford\, BC\, Abbotsford\, BC
ORGANIZER;CN="Vancouver Island University%2C Natural Resources Extension Program":MAILTO:NREP@viu.ca
END:VEVENT
BEGIN:VEVENT
DTSTART;VALUE=DATE:20240709
DTEND;VALUE=DATE:20240713
DTSTAMP:20260424T134528
CREATED:20240527T221752Z
LAST-MODIFIED:20240527T221752Z
UID:10000347-1720483200-1720828799@cab-bc.org
SUMMARY:Riparian Areas Protection Regulation
DESCRIPTION:This four-day theoretical and practical course presented by the Natural Resources Extension Program at Vancouver Island University introduces participants to the purpose and application of the Riparian Areas Protection Regulation (RAPR)\, including the roles and responsibilities of government\, the proponent\, and the Qualified Environmental Professional (QEP). Participants also learn to complete a field assessment and follow reporting procedures\, including electronic submission requirements.
URL:https://cab-bc.org/event/riparian-areas-protection-regulation-5/
LOCATION:Online/North Vancouver\, BC
ORGANIZER;CN="Vancouver Island University%2C Natural Resources Extension Program":MAILTO:NREP@viu.ca
END:VEVENT
BEGIN:VEVENT
DTSTART;VALUE=DATE:20240604
DTEND;VALUE=DATE:20240607
DTSTAMP:20260424T134528
CREATED:20240429T233641Z
LAST-MODIFIED:20240429T233641Z
UID:10000303-1717459200-1717718399@cab-bc.org
SUMMARY:Water Quality Monitoring: Freshwater Sampling and Design
DESCRIPTION:The intent of the water quality monitoring course is to provide participants with knowledge required in order to understand the design of programs for effluents and fresh water\, and to sample safely\, properly\, and with the ability to obtain the best scientifically-defensible results. This will be accomplished through the use of case studies and exercises which will reinforce the principles developed in the classroom. Presented by the Natural Resources Extension Program at VIU.
URL:https://cab-bc.org/event/water-quality-monitoring-freshwater-sampling-and-design/
LOCATION:Williams Lake\, BC\, Williams Lake\, BC\, Canada
ORGANIZER;CN="Vancouver Island University%2C Natural Resources Extension Program":MAILTO:NREP@viu.ca
END:VEVENT
BEGIN:VEVENT
DTSTART;VALUE=DATE:20240603
DTEND;VALUE=DATE:20240608
DTSTAMP:20260424T134528
CREATED:20240429T233151Z
LAST-MODIFIED:20240429T233151Z
UID:10000302-1717372800-1717804799@cab-bc.org
SUMMARY:Indigenous Mapping for Stewardship and Cultural Heritage Management
DESCRIPTION:Presented by the Natural Resources Extension Program at VIU\, this five-day course is designed for anyone working to ground Indigenous stewardship programs in community knowledge\, oral history\, ethnography\, and mapping. This might include Indigenous stewardship staffs\, their allies\, and government / industry partners. Participants will design\, conduct\, and review a mock traditional land use study based on content relevant to participants’ work and interests.
URL:https://cab-bc.org/event/indigenous-mapping-for-stewardship-and-cultural-heritage-management-2/
LOCATION:North Vancouver\, BC\, North Vancouver\, BC
ORGANIZER;CN="Vancouver Island University%2C Natural Resources Extension Program":MAILTO:NREP@viu.ca
END:VEVENT
BEGIN:VEVENT
DTSTART;VALUE=DATE:20240507
DTEND;VALUE=DATE:20240511
DTSTAMP:20260424T134528
CREATED:20240429T232900Z
LAST-MODIFIED:20240429T232900Z
UID:10000301-1715040000-1715385599@cab-bc.org
SUMMARY:Riparian Areas Protection Regulation
DESCRIPTION:This four-day theoretical and practical course presented by the Natural Resources Extension Program at Vancouver Island University introduces participants to the purpose and application of the Riparian Areas Protection Regulation (RAPR)\, including the roles and responsibilities of government\, the proponent\, and the Qualified Environmental Professional (QEP). Participants also learn to complete a field assessment and follow reporting procedures\, including electronic submission requirements.
URL:https://cab-bc.org/event/riparian-areas-protection-regulation-4/
LOCATION:Online/Nanaimo\, Nanaimo\, BC\, Canada
ORGANIZER;CN="Vancouver Island University%2C Natural Resources Extension Program":MAILTO:NREP@viu.ca
END:VEVENT
BEGIN:VEVENT
DTSTART;VALUE=DATE:20240611
DTEND;VALUE=DATE:20240614
DTSTAMP:20260424T134528
CREATED:20240429T232520Z
LAST-MODIFIED:20240429T232520Z
UID:10000300-1718064000-1718323199@cab-bc.org
SUMMARY:Environmental Monitoring for Construction Projects
DESCRIPTION:This course delivered by the Natural Resources Extension Program at VIU will train participants to effectively design\, manage\, conduct and report for environmental monitoring programs for a wide variety of applications throughout Western Canada\, such as stream crossing installations\, pipeline development\, land development\, etc.
URL:https://cab-bc.org/event/environmental-monitoring-for-construction-projects/
LOCATION:Abbotsford\, BC\, Abbotsford\, BC
ORGANIZER;CN="Vancouver Island University%2C Natural Resources Extension Program":MAILTO:NREP@viu.ca
END:VEVENT
END:VCALENDAR