BEGIN:VCALENDAR
VERSION:2.0
PRODID:-//College of Applied Biologists - ECPv6.15.18//NONSGML v1.0//EN
CALSCALE:GREGORIAN
METHOD:PUBLISH
X-ORIGINAL-URL:https://cab-bc.org
X-WR-CALDESC:Events for College of Applied Biologists
REFRESH-INTERVAL;VALUE=DURATION:PT1H
X-Robots-Tag:noindex
X-PUBLISHED-TTL:PT1H
BEGIN:VTIMEZONE
TZID:America/Vancouver
BEGIN:DAYLIGHT
TZOFFSETFROM:-0800
TZOFFSETTO:-0700
TZNAME:PDT
DTSTART:20230312T100000
END:DAYLIGHT
BEGIN:STANDARD
TZOFFSETFROM:-0700
TZOFFSETTO:-0800
TZNAME:PST
DTSTART:20231105T090000
END:STANDARD
BEGIN:DAYLIGHT
TZOFFSETFROM:-0800
TZOFFSETTO:-0700
TZNAME:PDT
DTSTART:20240310T100000
END:DAYLIGHT
BEGIN:STANDARD
TZOFFSETFROM:-0700
TZOFFSETTO:-0800
TZNAME:PST
DTSTART:20241103T090000
END:STANDARD
BEGIN:DAYLIGHT
TZOFFSETFROM:-0800
TZOFFSETTO:-0700
TZNAME:PDT
DTSTART:20250309T100000
END:DAYLIGHT
BEGIN:STANDARD
TZOFFSETFROM:-0700
TZOFFSETTO:-0800
TZNAME:PST
DTSTART:20251102T090000
END:STANDARD
BEGIN:DAYLIGHT
TZOFFSETFROM:-0800
TZOFFSETTO:-0700
TZNAME:PDT
DTSTART:20260308T100000
END:DAYLIGHT
BEGIN:STANDARD
TZOFFSETFROM:-0700
TZOFFSETTO:-0800
TZNAME:PST
DTSTART:20261101T090000
END:STANDARD
END:VTIMEZONE
BEGIN:VEVENT
DTSTART;TZID=America/Vancouver:20250820T120000
DTEND;TZID=America/Vancouver:20250820T130000
DTSTAMP:20260423T223621
CREATED:20250813T220350Z
LAST-MODIFIED:20250813T220350Z
UID:10000683-1755691200-1755694800@cab-bc.org
SUMMARY:Lunch 'n' Learn (Aug 20) Sediment and Erosion Control Solutions for your Toolbox
DESCRIPTION:Specifiers and users of erosion and sediment control (ESC) products may not always be familiar with which products are best suited to address site-specific erosion challenges. This presentation will focus on available tools—ESC products—that can be used to respond to varying site conditions. The session will cover the differences between sediment control and erosion control\, factors contributing to erosion\, and considerations for selecting appropriate products. It will also include a review of site images to evaluate product usage.
URL:https://cab-bc.org/event/lunch-n-learn-aug-20-sediment-and-erosion-control-solutions-for-your-toolbox/
LOCATION:Online
END:VEVENT
BEGIN:VEVENT
DTSTART;TZID=America/Vancouver:20250911T083000
DTEND;TZID=America/Vancouver:20250912T163000
DTSTAMP:20260423T223621
CREATED:20250813T214220Z
LAST-MODIFIED:20250813T214220Z
UID:10000682-1757579400-1757694600@cab-bc.org
SUMMARY:BC CESCL September 11 -12\, 2025 (ONLINE)
DESCRIPTION:The 2-day online BC CESCL course is a live\, interactive introduction to erosion and sediment control (ESC) site management. It is intended for site personnel responsible for managing and addressing ESC concerns as part of their daily work. The course provides detailed foundational content and is considered an introductory-level training.
URL:https://cab-bc.org/event/bc-cescl-september-11-12-2025-online/
LOCATION:Online
END:VEVENT
BEGIN:VEVENT
DTSTART;TZID=America/Vancouver:20250910T083000
DTEND;TZID=America/Vancouver:20250910T163000
DTSTAMP:20260423T223621
CREATED:20250813T213842Z
LAST-MODIFIED:20250813T213842Z
UID:10000681-1757493000-1757521800@cab-bc.org
SUMMARY:BC CESCL Recertification Online - Wednesday\, September 10\, 2025
DESCRIPTION:The BC-CESCL (British Columbia Certified Erosion and Sediment Control Lead) recertification course is intended for ESC professionals whose CESCL designation has expired or will expire within the next 6 to 12 months. This one-day course and exam reviews key topics from the original two-day CESCL course\, including erosion and sedimentation processes\, regulatory requirements\, erosion and sediment control plans\, best management practices\, inspections\, and record-keeping.\nNote: This is an online course.
URL:https://cab-bc.org/event/bc-cescl-recertification-online-wednesday-september-10-2025/
LOCATION:Online
END:VEVENT
BEGIN:VEVENT
DTSTART;VALUE=DATE:20251029
DTEND;VALUE=DATE:20251031
DTSTAMP:20260423T223621
CREATED:20250513T220652Z
LAST-MODIFIED:20250513T220652Z
UID:10000637-1761696000-1761868799@cab-bc.org
SUMMARY:ESCA BC 2025 Annual Conference
DESCRIPTION:Save the date for October 29 and 30\, 2025 to join hundreds of ESC professionals in Coquitlam\, BC\, for two full days of educational sessions\, networking\, hot breakfasts and lunches\, an entertaining social mixer (Wednesday late afternoon)\, a keynote\, plenary panels\, and more.
URL:https://cab-bc.org/event/esca-bc-2025-annual-conference/
LOCATION:Coquitlam\, BC\, Canada
END:VEVENT
BEGIN:VEVENT
DTSTART;VALUE=DATE:20240911
DTEND;VALUE=DATE:20240912
DTSTAMP:20260423T223621
CREATED:20240624T223220Z
LAST-MODIFIED:20240624T223220Z
UID:10000392-1726012800-1726099199@cab-bc.org
SUMMARY:BC CESCL Recertification
DESCRIPTION:BC-CESCL (British Columbia Certified Erosion and Sediment Control Lead) recertification course is for ESC professionals with a CESCL designation that has expired or will expire within 6-12 months. The one-day course and exam revisits the topics and issues covered in the two-day CESCL course\, including erosion and sedimentation processes\, regulatory requirements\, erosion and sediment control plans\, best management practices\, inspections\, and record-keeping.
URL:https://cab-bc.org/event/bc-cescl-recertification/
LOCATION:Online
END:VEVENT
BEGIN:VEVENT
DTSTART;VALUE=DATE:20240909
DTEND;VALUE=DATE:20240911
DTSTAMP:20260423T223621
CREATED:20240624T222948Z
LAST-MODIFIED:20240624T222948Z
UID:10000391-1725840000-1726012799@cab-bc.org
SUMMARY:BC CESCL Course
DESCRIPTION:The 2-day ONLINE BC CESCL course is a live and interactive introduction to ESC site management. It is designed for site personnel who need to manage and address ESC concerns as part of their daily site responsibilities. This is considered a heavily detailed introductory level course.
URL:https://cab-bc.org/event/bc-cescl-course-2/
LOCATION:Online
END:VEVENT
BEGIN:VEVENT
DTSTART;TZID=America/Vancouver:20240918T120000
DTEND;TZID=America/Vancouver:20240918T130000
DTSTAMP:20260423T223621
CREATED:20240624T222714Z
LAST-MODIFIED:20240624T222714Z
UID:10000390-1726660800-1726664400@cab-bc.org
SUMMARY:Lunch 'n' Learn The Science of Coagulants and their Application in Sediment Control
DESCRIPTION:The aim of this presentation by ESCABC will be to summarize the mechanism of coagulation\, increase the understanding of available options\, and shed light on emerging technologies. With a focus on applications towards sediment control on British Columbia\, this session will leave attendees with a basic understand of what’s available in the coagulation space and tools to help implement a sedimentation program.
URL:https://cab-bc.org/event/lunch-n-learn-the-science-of-coagulants-and-their-application-in-sediment-control/
LOCATION:Online
END:VEVENT
BEGIN:VEVENT
DTSTART;TZID=America/Vancouver:20240717T120000
DTEND;TZID=America/Vancouver:20240717T130000
DTSTAMP:20260423T223621
CREATED:20240624T222013Z
LAST-MODIFIED:20240624T222013Z
UID:10000389-1721217600-1721221200@cab-bc.org
SUMMARY:Lunch 'n' Learn Ahead of the Curve – Turbidity\, Treatment & Technology
DESCRIPTION:This webinar delivered by ESCABC will present latest technologies and best practices related to \n\nHow to best manage and treat for turbidity\, dissolved solids\, and hydrocarbons.\nNew products such as lamella clarifiers and screw disc press dehydrators to minimize footprint\, solid waste generation\, and cost.\nCloud based software and app that enables users to quickly model treatment technologies.\nField operations data collection & data sharing technology.
URL:https://cab-bc.org/event/lunch-n-learn-ahead-of-the-curve-turbidity-treatment-technology/
LOCATION:Online
END:VEVENT
BEGIN:VEVENT
DTSTART;VALUE=DATE:20241016
DTEND;VALUE=DATE:20241018
DTSTAMP:20260423T223621
CREATED:20240624T221404Z
LAST-MODIFIED:20240624T221404Z
UID:10000388-1729036800-1729209599@cab-bc.org
SUMMARY:2024 ESCA BC Annual Conference
DESCRIPTION:The Erosion and Sediment Control Association of British Columbia will host its 2024 Annual Conference on October 16 & 17\, 2024\, in Coquitlam\, BC. Join hundreds of ESC professionals from across Western Canada\, and the US Pacific Northwest for two full days of in-person ESC networking\, learning\, and discussions. \nAttendee Tickets go on sale in July. EARLY BIRD prices until August 19\, 2024. Sponsor and exhibitor opportunities are now available.
URL:https://cab-bc.org/event/2024-esca-bc-annual-conference/
LOCATION:Executive Hotel and Conference Centre\, 405 North Rd.\, Coquitlam\, BC\, Canada
END:VEVENT
BEGIN:VEVENT
DTSTART;TZID=America/Vancouver:20240710T120000
DTEND;TZID=America/Vancouver:20240710T130000
DTSTAMP:20260423T223621
CREATED:20240527T230217Z
LAST-MODIFIED:20240527T230217Z
UID:10000361-1720612800-1720616400@cab-bc.org
SUMMARY:Lunch 'n' Learn A Multi-disciplinary Approach to Sustainable ESC from Transportation Construction Activities
DESCRIPTION:A multi-disciplinary approach to ESC during construction is key to achieving a sustainable and resilient transportation right-of-way. Washington State Department of Transportation (WSDOT) will present their methods of managing construction stormwater pollution and examine how today’s practices can significantly influence tomorrow’s roadside environment. Participants will learn about challenges and lessons learned from early design through physical completion and how effective and proactive ESC can make (or break) a sustainable right-of-way. Presented by ESCABC.
URL:https://cab-bc.org/event/lunch-n-learn-a-multi-disciplinary-approach-to-sustainable-esc-from-transportation-construction-activities/
LOCATION:Online
END:VEVENT
BEGIN:VEVENT
DTSTART;TZID=America/Vancouver:20240619T120000
DTEND;TZID=America/Vancouver:20240619T130000
DTSTAMP:20260423T223621
CREATED:20240527T225723Z
LAST-MODIFIED:20240527T225723Z
UID:10000360-1718798400-1718802000@cab-bc.org
SUMMARY:Lunch 'n' Learn Grass and Forb Seed Mixtures for Vegetated Retaining Walls\, Naturalized Areas\, and Green Roofs
DESCRIPTION:This presentation by ESCABC will highlight the successes and lessons learned from vegetating local BC retaining wall\, green roof\, and naturalization projects using photos. The presentation will examine seed mix compositions of native/ agronomic grass seed mixes and wildflower blends for different areas of BC. Other topics of discussion include application methods\, seed procurement and availability\, and hydraulically applied erosion control products.
URL:https://cab-bc.org/event/lunch-n-learn-grass-and-forb-seed-mixtures-for-vegetated-retaining-walls-naturalized-areas-and-green-roofs/
LOCATION:Online
END:VEVENT
BEGIN:VEVENT
DTSTART;TZID=America/Vancouver:20240605T120000
DTEND;TZID=America/Vancouver:20240605T130000
DTSTAMP:20260423T223621
CREATED:20240430T172821Z
LAST-MODIFIED:20240430T172821Z
UID:10000318-1717588800-1717592400@cab-bc.org
SUMMARY:Lunch 'n' Learn Comparison of Dust Control Methods: Performance\, Efficiency\, and Environmental Impact
DESCRIPTION:Dust suppressants used to control dust on unpaved roads can range from water to palliative materials including solutions based on sodium chloride (NaCl)\, calcium chloride (CaCl2)\, and magnesium chloride (MgCl2)\, lignin and asphalt emulsions\, and organic / natural solutions. In this session delivered by ESCABC\, presenters will compare the performance\, efficiency\, and environmental impact of the most commonly used dust suppressants.
URL:https://cab-bc.org/event/lunch-n-learn-comparison-of-dust-control-methods-performance-efficiency-and-environmental-impact/
LOCATION:Online
END:VEVENT
BEGIN:VEVENT
DTSTART;TZID=America/Vancouver:20240529T120000
DTEND;TZID=America/Vancouver:20240529T130000
DTSTAMP:20260423T223621
CREATED:20240430T172530Z
LAST-MODIFIED:20240430T172549Z
UID:10000317-1716984000-1716987600@cab-bc.org
SUMMARY:Lunch 'n' Learn Closing the Loop: Recycling Land Clearing into Compost for ESC Slope Stabilization and Revegetation
DESCRIPTION:During this educational Lunch & Learn opportunity with Denbow\, participants will discuss Closed Loop Development for compost creation. Presenters will walk attendees through the entire process\, starting with the standards in place for harvested clean green forest debris\, and moving into how it’s blended to create Premium Nature Based Products. They will discuss how these products can be integrated into Nature Based Solutions for Erosion and Sediment Control\, Slope Stabilization\, Revegetation and Environmental Landscaping. Presented by ESCABC.
URL:https://cab-bc.org/event/lunch-n-learn-may-29-closing-the-loop-recycling-land-clearing-into-compost-for-esc-slope-stabilization-and-revegetation/
LOCATION:Online
END:VEVENT
BEGIN:VEVENT
DTSTART;TZID=America/Vancouver:20240515T120000
DTEND;TZID=America/Vancouver:20240515T130000
DTSTAMP:20260423T223621
CREATED:20240430T172115Z
LAST-MODIFIED:20240430T172115Z
UID:10000316-1715774400-1715778000@cab-bc.org
SUMMARY:Lunch 'n' Learn ESC's Toughest and Trickiest Techniques: Ponds and RUSLE
DESCRIPTION:Join the ESCABC as they review the best practices and applications of: \n\nSediment control ponds\, including purpose\, effectiveness\, layout\, design\, construction and monitoring; (12:00 -12:35)\nRevised Universal Soil Loss Equation for Application in Canada including how to quantify the effectiveness of your plan! (12:35 – 1:00)
URL:https://cab-bc.org/event/lunch-n-learn-escs-toughest-and-trickiest-techniques-ponds-and-rusle/
LOCATION:Online
END:VEVENT
BEGIN:VEVENT
DTSTART;VALUE=DATE:20240507
DTEND;VALUE=DATE:20240509
DTSTAMP:20260423T223621
CREATED:20240227T191040Z
LAST-MODIFIED:20240227T191040Z
UID:10000239-1715040000-1715212799@cab-bc.org
SUMMARY:BC CESCL Course
DESCRIPTION:The BC-CESCL course is designed to help practitioners understand how to manage erosion and sediment control on their construction projects and understand their obligations under government legislation. Although it most relevant for the “boots on the ground” site personnel and new ESC professionals\, site monitors often take the course and benefit from expanding their knowledge. The two-day course and exam covers erosion and sedimentation processes\, regulatory requirements\, understanding erosion and sediment control plans\, best management practices\, inspections\, and record-keeping.
URL:https://cab-bc.org/event/bc-cescl-course/
LOCATION:Online
END:VEVENT
END:VCALENDAR