BEGIN:VCALENDAR
VERSION:2.0
PRODID:-//College of Applied Biologists - ECPv6.15.18//NONSGML v1.0//EN
CALSCALE:GREGORIAN
METHOD:PUBLISH
X-ORIGINAL-URL:https://cab-bc.org
X-WR-CALDESC:Events for College of Applied Biologists
REFRESH-INTERVAL;VALUE=DURATION:PT1H
X-Robots-Tag:noindex
X-PUBLISHED-TTL:PT1H
BEGIN:VTIMEZONE
TZID:America/Vancouver
BEGIN:DAYLIGHT
TZOFFSETFROM:-0800
TZOFFSETTO:-0700
TZNAME:PDT
DTSTART:20230312T100000
END:DAYLIGHT
BEGIN:STANDARD
TZOFFSETFROM:-0700
TZOFFSETTO:-0800
TZNAME:PST
DTSTART:20231105T090000
END:STANDARD
BEGIN:DAYLIGHT
TZOFFSETFROM:-0800
TZOFFSETTO:-0700
TZNAME:PDT
DTSTART:20240310T100000
END:DAYLIGHT
BEGIN:STANDARD
TZOFFSETFROM:-0700
TZOFFSETTO:-0800
TZNAME:PST
DTSTART:20241103T090000
END:STANDARD
BEGIN:DAYLIGHT
TZOFFSETFROM:-0800
TZOFFSETTO:-0700
TZNAME:PDT
DTSTART:20250309T100000
END:DAYLIGHT
BEGIN:STANDARD
TZOFFSETFROM:-0700
TZOFFSETTO:-0800
TZNAME:PST
DTSTART:20251102T090000
END:STANDARD
END:VTIMEZONE
BEGIN:VEVENT
DTSTART;TZID=America/Vancouver:20240422T083000
DTEND;TZID=America/Vancouver:20240425T123000
DTSTAMP:20260424T001306
CREATED:20240131T223645Z
LAST-MODIFIED:20240212T231658Z
UID:10000193-1713774600-1714048200@cab-bc.org
SUMMARY:Data Manipulation and Visualization in R
DESCRIPTION:Presented by Columbia Mountains Institute of Applied Ecology\, the course on data manipulation and visualization will provide students with the tools they need to effectively tidy\, transform and visualize their data in R. This course will teach the theory behind tidy data\, setting up a reproducible data pipeline\, introduction in the tidyverse suite of packages\, importing data\, tidying data\, transforming data\, dealing with missing data\, summary statistics\, exploratory data analysis\, data visualizations and writing reports in R markdown. Focus on dplyr\, tidyr and ggplot2 packages from the tidyverse. \nThis course spans four half-days. Students should have a basic working knowledge of R software to take this course. This course is paired with a Ayla’s Intro to R course (next scheduled for May 6-9 and Oct 15-18).
URL:https://cab-bc.org/event/data-manipulation-and-visualization-in-r/
LOCATION:Online
ORGANIZER;CN="Columbia Mountains Institute of Applied Ecology":MAILTO:office@cmiae.org
END:VEVENT
END:VCALENDAR