BEGIN:VCALENDAR
VERSION:2.0
PRODID:-//College of Applied Biologists - ECPv6.15.18//NONSGML v1.0//EN
CALSCALE:GREGORIAN
METHOD:PUBLISH
X-WR-CALNAME:College of Applied Biologists
X-ORIGINAL-URL:https://cab-bc.org
X-WR-CALDESC:Events for College of Applied Biologists
REFRESH-INTERVAL;VALUE=DURATION:PT1H
X-Robots-Tag:noindex
X-PUBLISHED-TTL:PT1H
BEGIN:VTIMEZONE
TZID:America/Vancouver
BEGIN:DAYLIGHT
TZOFFSETFROM:-0800
TZOFFSETTO:-0700
TZNAME:PDT
DTSTART:20230312T100000
END:DAYLIGHT
BEGIN:STANDARD
TZOFFSETFROM:-0700
TZOFFSETTO:-0800
TZNAME:PST
DTSTART:20231105T090000
END:STANDARD
BEGIN:DAYLIGHT
TZOFFSETFROM:-0800
TZOFFSETTO:-0700
TZNAME:PDT
DTSTART:20240310T100000
END:DAYLIGHT
BEGIN:STANDARD
TZOFFSETFROM:-0700
TZOFFSETTO:-0800
TZNAME:PST
DTSTART:20241103T090000
END:STANDARD
BEGIN:DAYLIGHT
TZOFFSETFROM:-0800
TZOFFSETTO:-0700
TZNAME:PDT
DTSTART:20250309T100000
END:DAYLIGHT
BEGIN:STANDARD
TZOFFSETFROM:-0700
TZOFFSETTO:-0800
TZNAME:PST
DTSTART:20251102T090000
END:STANDARD
BEGIN:DAYLIGHT
TZOFFSETFROM:-0800
TZOFFSETTO:-0700
TZNAME:PDT
DTSTART:20260308T100000
END:DAYLIGHT
BEGIN:STANDARD
TZOFFSETFROM:-0700
TZOFFSETTO:-0800
TZNAME:PST
DTSTART:20261101T090000
END:STANDARD
END:VTIMEZONE
BEGIN:VEVENT
DTSTART;VALUE=DATE:20250317
DTEND;VALUE=DATE:20250319
DTSTAMP:20260423T230009
CREATED:20240829T212723Z
LAST-MODIFIED:20240829T212723Z
UID:10000432-1742169600-1742342399@cab-bc.org
SUMMARY:Fish Identification Course: Columbia Basin Edition
DESCRIPTION:This course presented by Columbia Mountains Institute of Applied Ecology serves as an introduction to the biogeography\, evolution\, and identification of native and introduced freshwater fishes found in British Columbia. Two lecture sessions focus on the biogeography\, evolution of the fauna\, as well as the morphological and genetic techniques used in fish identification. Two afternoons focus on morphological-based identification of fishes\, particularly those of the southern Interior of BC. \n 
URL:https://cab-bc.org/event/fish-identification-course-columbia-basin-edition/
LOCATION:Revelstoke\, BC\, Canada
ORGANIZER;CN="Columbia Mountains Institute of Applied Ecology":MAILTO:office@cmiae.org
END:VEVENT
BEGIN:VEVENT
DTSTART;VALUE=DATE:20250218
DTEND;VALUE=DATE:20250221
DTSTAMP:20260423T230009
CREATED:20240829T211125Z
LAST-MODIFIED:20240829T211125Z
UID:10000431-1739836800-1740095999@cab-bc.org
SUMMARY:Introduction to Statistics for Ecology using R
DESCRIPTION:This course presented by the Columbia Mountains Institute of Applied Ecology provides an introductory primer for statistical concepts and techniques. Learners will explore ecological data\, assumptions about probability distributions\, hypothesis testing\, one and two sample tests\, ANOVA\, regression\, and model building topics. Emphasis will be placed on integrating practical examples into course exercises. \nThe course will be taught using Excel and R software.
URL:https://cab-bc.org/event/introduction-to-statistics-for-ecology-using-r/
LOCATION:Selkirk College\, 301 Frank Beinder Way\, Castlegar\, BC\, V1N 4L3\, Canada
ORGANIZER;CN="Columbia Mountains Institute of Applied Ecology":MAILTO:office@cmiae.org
END:VEVENT
BEGIN:VEVENT
DTSTART;VALUE=DATE:20250122
DTEND;VALUE=DATE:20250125
DTSTAMP:20260423T230009
CREATED:20240829T210501Z
LAST-MODIFIED:20240829T210501Z
UID:10000430-1737504000-1737763199@cab-bc.org
SUMMARY:Introduction to Camera Trap Data Management and Analysis in R
DESCRIPTION:This course presented by Columbia Mountains Institute of Applied Ecology aims to guide participants in effective ways to store\, manipulate and analyze camera trap data within the R statistical environment. It will cover data storage and exploration of best practices\, introductions to the major methods used to analyze camera trap data\, all using real world camera data. The course will give participants the tools to manage\, analyze and share camera trap data in an approachable and practical way. \nThis course is designed for students who are familiar with the basics of using R and R Studio.
URL:https://cab-bc.org/event/introduction-to-camera-trap-data-management-and-analysis-in-r-2/
LOCATION:Revelstoke\, BC\, Canada
ORGANIZER;CN="Columbia Mountains Institute of Applied Ecology":MAILTO:office@cmiae.org
END:VEVENT
BEGIN:VEVENT
DTSTART;VALUE=DATE:20241008
DTEND;VALUE=DATE:20241010
DTSTAMP:20260423T230009
CREATED:20240624T190422Z
LAST-MODIFIED:20240624T190422Z
UID:10000370-1728345600-1728518399@cab-bc.org
SUMMARY:Annual Researchers’ Forum: From Valley Bottom to Mountains Top
DESCRIPTION:The Columbia Mountains Institute of Applied Ecology (CMI) hosts an annual event where they gather members of the scientific community\, Indigenous community members and representatives\, stewardship groups\, and interested individuals to provide updates on ecological projects taking place in southeastern British Columbia – everything from field trials\, new restoration projects and their associated community initiatives\, to ecosystem monitoring\, research\, etc. These updates cover a wide range of topics and species. \nCall for proposals open until Fri September 9\, 2024.
URL:https://cab-bc.org/event/annual-researchers-forum-from-valley-bottom-to-mountains-top/
LOCATION:Creston & District Community Complex\, Creston\, BC\, Canada
ORGANIZER;CN="Columbia Mountains Institute of Applied Ecology":MAILTO:office@cmiae.org
END:VEVENT
BEGIN:VEVENT
DTSTART;VALUE=DATE:20241023
DTEND;VALUE=DATE:20241025
DTSTAMP:20260423T230009
CREATED:20240429T220610Z
LAST-MODIFIED:20240429T220610Z
UID:10000289-1729641600-1729814399@cab-bc.org
SUMMARY:Environmental DNA (eDNA) Theory and Implementation
DESCRIPTION:Environmental DNA (eDNA) is a proven and globally accepted method that is increasingly being used for survey of aquatic taxa. This highly effective\, cost-efficient\, and non-invasive method relies on the detection of genetic materials in aquatic ecosystems using laboratory analysis of water samples to detect DNA from the target taxa. Environmental DNA methods are predicated on basic biological principles and employ long-standing proven methods for laboratory testing. This is a two-day course presented by Columbia Mountains Institute of Applied Ecology.
URL:https://cab-bc.org/event/environmental-dna-edna-theory-and-implementation/
LOCATION:School District 19\, 501 - 11th Street\, Revelstoke\, BC\, Canada
ORGANIZER;CN="Columbia Mountains Institute of Applied Ecology":MAILTO:office@cmiae.org
END:VEVENT
BEGIN:VEVENT
DTSTART;VALUE=DATE:20240925
DTEND;VALUE=DATE:20240928
DTSTAMP:20260423T230009
CREATED:20240429T220104Z
LAST-MODIFIED:20240429T220104Z
UID:10000288-1727222400-1727481599@cab-bc.org
SUMMARY:Introduction to Camera Trap Data Management and Analysis in R
DESCRIPTION:This course presented by Columbia Mountains Institute of Applied Ecology aims to guide participants in effective ways to store\, manipulate and analyze camera trap data within the R statistical environment. It will cover data storage and exploration of best practices\, introductions to the major methods used to analyze camera trap data\, all using real world camera data. The course will give participants the tools to manage\, analyze and share camera trap data in an approachable and practical way. \nThis course is designed for students who are familiar with the basics of using R and R Studio.
URL:https://cab-bc.org/event/introduction-to-camera-trap-data-management-and-analysis-in-r/
LOCATION:Revelstoke\, BC\, Canada
ORGANIZER;CN="Columbia Mountains Institute of Applied Ecology":MAILTO:office@cmiae.org
END:VEVENT
BEGIN:VEVENT
DTSTART;TZID=America/Vancouver:20241015T090000
DTEND;TZID=America/Vancouver:20241018T120000
DTSTAMP:20260423T230009
CREATED:20240227T002651Z
LAST-MODIFIED:20240227T002651Z
UID:10000220-1728982800-1729252800@cab-bc.org
SUMMARY:Introduction to `R` software
DESCRIPTION:This online course presented by the Columbia Mountains Institute of Applied Ecology will provide tips and tricks to programming in R\, installation of R packages and libraries\, introduction to base R objects and data types\, assign a value to a name\, identify functions\, for loops\, and conditional statements\, read in data from common file types (csv/xlsx)\, and perform mathematical operations and linear regression.
URL:https://cab-bc.org/event/introduction-to-r-software/
LOCATION:Online
ORGANIZER;CN="Columbia Mountains Institute of Applied Ecology":MAILTO:office@cmiae.org
END:VEVENT
BEGIN:VEVENT
DTSTART;TZID=America/Vancouver:20241001T083000
DTEND;TZID=America/Vancouver:20241004T123000
DTSTAMP:20260423T230009
CREATED:20240227T002116Z
LAST-MODIFIED:20240227T002116Z
UID:10000219-1727771400-1728045000@cab-bc.org
SUMMARY:Data Manipulation and Visualization in R
DESCRIPTION:Presented by the Columbia Mountains Institute of Applied Ecology\, this online course with Ayla Pearson will provide students with the tools they need to effectively tidy\, transform and visualize their data in R. This course will teach the theory behind tidy data\, setting up a reproducible data pipeline\, introduction in the tidyverse suite of packages\, importing data\, tidying data\, transforming data\, dealing with missing data\, summary statistics\, exploratory data analysis\, data visualizations and writing reports in R markdown. Focus on dplyr\, tidyr and ggplot2 packages from the tidyverse.
URL:https://cab-bc.org/event/data-manipulation-and-visualization-in-r-2/
LOCATION:Online
ORGANIZER;CN="Columbia Mountains Institute of Applied Ecology":MAILTO:office@cmiae.org
END:VEVENT
BEGIN:VEVENT
DTSTART;VALUE=DATE:20240703
DTEND;VALUE=DATE:20240706
DTSTAMP:20260423T230009
CREATED:20240227T001435Z
LAST-MODIFIED:20240227T001435Z
UID:10000218-1719964800-1720223999@cab-bc.org
SUMMARY:Wetland Classification: An introduction
DESCRIPTION:Presented by the Columbia Mountains Institute of Applied Ecology\, this course will introduce students to the BC Classification system of wetlands and the Canadian Wetland Classification System\, providing them with an overview of how to classify and delineate wetlands and the differences between using these systems. The course will start with a classroom session learning how to classify wetlands using the physical and biological characteristics (e.g.\, hydric soils\, hydric plant indicators\, and hydrology). These field parameters will be applied to protocols including the Canadian National Wetland Inventory that can be used in the field to describe\, classify\, and delineate wetlands. The course will include 3-4 field site visits around the Revelstoke area to local wetlands to practice classification and delineation processes using site forms and the Wetlands of British Columbia (LMH 52) guidebook. Functional wetland assessments (including the Wetland Ecosystem Services Protocol) and condition assessments will also be briefly discussed.
URL:https://cab-bc.org/event/wetland-classification-an-introduction/
LOCATION:Revelstoke\, BC\, Canada
ORGANIZER;CN="Columbia Mountains Institute of Applied Ecology":MAILTO:office@cmiae.org
END:VEVENT
BEGIN:VEVENT
DTSTART;VALUE=DATE:20240626
DTEND;VALUE=DATE:20240629
DTSTAMP:20260423T230009
CREATED:20240227T001015Z
LAST-MODIFIED:20240227T001015Z
UID:10000217-1719360000-1719619199@cab-bc.org
SUMMARY:Field Soil Description & Classification Course
DESCRIPTION:Presented by the Columbian Mountains Institute of Applied Ecology\, this course will cover procedures for observing\, measuring\, and describing soils in the field. The goal is to produce consistent data for soil inventory\, mapping and classification using techniques that improve the consistency of determining soil properties in the field. Students will gain experience with describing and classifying forest and wetland soils in the Revelstoke area using soil horizons and properties measured in the field. Students will discuss how soil data collected in the field can inform soil management practices relating to conservation\, agriculture\, forestry\, mining\, and oil & gas activities.
URL:https://cab-bc.org/event/field-soil-description-classification-course/
LOCATION:Revelstoke\, BC\, Canada
ORGANIZER;CN="Columbia Mountains Institute of Applied Ecology":MAILTO:office@cmiae.org
END:VEVENT
BEGIN:VEVENT
DTSTART;TZID=America/Vancouver:20240508T090000
DTEND;TZID=America/Vancouver:20240626T110000
DTSTAMP:20260423T230009
CREATED:20240226T235228Z
LAST-MODIFIED:20240226T235228Z
UID:10000216-1715158800-1719399600@cab-bc.org
SUMMARY:Understanding Statistics and Decision-Making for Natural Resource Managers
DESCRIPTION:Presented by the Columbia Mountains Institute of Applied Ecology\, this online eight-day online course with Joe Thorley is for natural resource managers who have to interpret the results of statistical analyses and make decisions about how much data to collect and which management actions to undertake. The course focuses on the fundamentals of uncertainty\, modeling\, effect sizes\, decision theory and the value of information. It does not require a statistical background and doesn’t involve any modeling although different types of results are presented and discussed.
URL:https://cab-bc.org/event/understanding-statistics-and-decision-making-for-natural-resource-managers/
LOCATION:Online
ORGANIZER;CN="Columbia Mountains Institute of Applied Ecology":MAILTO:office@cmiae.org
END:VEVENT
BEGIN:VEVENT
DTSTART;TZID=America/Vancouver:20240506T090000
DTEND;TZID=America/Vancouver:20240509T120000
DTSTAMP:20260423T230009
CREATED:20240131T224354Z
LAST-MODIFIED:20240131T224354Z
UID:10000194-1714986000-1715256000@cab-bc.org
SUMMARY:Introduction to 'R' Software
DESCRIPTION:An introduction to the programming language R\, presented by CMI. This course will provide tips and tricks to programming in R\, installation of R packages and libraries\, introduction to base R objects and data types\, assign a value to a name\, identify functions\, for loops\, and conditional statements\, read in data from common file types (csv/xlsx)\, and perform mathematical operations and linear regression.
URL:https://cab-bc.org/event/introduction-to-r-software-2/
LOCATION:Online
ORGANIZER;CN="Columbia Mountains Institute of Applied Ecology":MAILTO:office@cmiae.org
END:VEVENT
BEGIN:VEVENT
DTSTART;TZID=America/Vancouver:20240422T083000
DTEND;TZID=America/Vancouver:20240425T123000
DTSTAMP:20260423T230009
CREATED:20240131T223645Z
LAST-MODIFIED:20240212T231658Z
UID:10000193-1713774600-1714048200@cab-bc.org
SUMMARY:Data Manipulation and Visualization in R
DESCRIPTION:Presented by Columbia Mountains Institute of Applied Ecology\, the course on data manipulation and visualization will provide students with the tools they need to effectively tidy\, transform and visualize their data in R. This course will teach the theory behind tidy data\, setting up a reproducible data pipeline\, introduction in the tidyverse suite of packages\, importing data\, tidying data\, transforming data\, dealing with missing data\, summary statistics\, exploratory data analysis\, data visualizations and writing reports in R markdown. Focus on dplyr\, tidyr and ggplot2 packages from the tidyverse. \nThis course spans four half-days. Students should have a basic working knowledge of R software to take this course. This course is paired with a Ayla’s Intro to R course (next scheduled for May 6-9 and Oct 15-18).
URL:https://cab-bc.org/event/data-manipulation-and-visualization-in-r/
LOCATION:Online
ORGANIZER;CN="Columbia Mountains Institute of Applied Ecology":MAILTO:office@cmiae.org
END:VEVENT
END:VCALENDAR