BEGIN:VCALENDAR
VERSION:2.0
PRODID:-//College of Applied Biologists - ECPv6.15.18//NONSGML v1.0//EN
CALSCALE:GREGORIAN
METHOD:PUBLISH
X-WR-CALNAME:College of Applied Biologists
X-ORIGINAL-URL:https://cab-bc.org
X-WR-CALDESC:Events for College of Applied Biologists
REFRESH-INTERVAL;VALUE=DURATION:PT1H
X-Robots-Tag:noindex
X-PUBLISHED-TTL:PT1H
BEGIN:VTIMEZONE
TZID:America/Vancouver
BEGIN:DAYLIGHT
TZOFFSETFROM:-0800
TZOFFSETTO:-0700
TZNAME:PDT
DTSTART:20250309T100000
END:DAYLIGHT
BEGIN:STANDARD
TZOFFSETFROM:-0700
TZOFFSETTO:-0800
TZNAME:PST
DTSTART:20251102T090000
END:STANDARD
BEGIN:DAYLIGHT
TZOFFSETFROM:-0800
TZOFFSETTO:-0700
TZNAME:PDT
DTSTART:20260308T100000
END:DAYLIGHT
BEGIN:STANDARD
TZOFFSETFROM:-0700
TZOFFSETTO:-0800
TZNAME:PST
DTSTART:20261101T090000
END:STANDARD
BEGIN:DAYLIGHT
TZOFFSETFROM:-0800
TZOFFSETTO:-0700
TZNAME:PDT
DTSTART:20270314T100000
END:DAYLIGHT
BEGIN:STANDARD
TZOFFSETFROM:-0700
TZOFFSETTO:-0800
TZNAME:PST
DTSTART:20271107T090000
END:STANDARD
END:VTIMEZONE
BEGIN:VEVENT
DTSTART;TZID=America/Vancouver:20260407T000000
DTEND;TZID=America/Vancouver:20260407T000000
DTSTAMP:20260419T093245
CREATED:20260323T183505Z
LAST-MODIFIED:20260323T183842Z
UID:10000739-1775520000-1775520000@cab-bc.org
SUMMARY:Northern B.C. Ecosystem Restoration Community of Practice Webinar: Getting Into (ER) Consulting - Robin Routledge\, Recon Environmental
DESCRIPTION:Part of the Northern BC CoP: Lunch ‘n’ Learn Webinar Series \nJoin Robin Routledge\, President of Recon Environmental Ltd.\, for a webinar focused on establishing and operating an environmental consulting firm. The session will provide practical insights into the restoration and reclamation sectors alongside challenges that come with being a new company in a very competitive industry. \nRobin will also address stakeholder and community engagement\, regulatory considerations\, and the operational and strategic differences between working as an employee and leading a consultancy as an owner. \nWhether you are considering starting your own firm\, growing an existing business\, or wondering about the realities of entrepreneurship in environmental consulting\, please join to learn with and from one another.
URL:https://cab-bc.org/event/northern-b-c-ecosystem-restoration-community-of-practice-webinar-getting-into-er-consulting-robin-routledge-recon-environmental/
LOCATION:Online via Teams\, 10207 109 Ave\, Fort St. John\, BC\, V1J 4N5
ORGANIZER;CN="Northern B.C. Ecosystem Restoration Community of Practice":MAILTO:mae.whyte@sernbc.ca
END:VEVENT
BEGIN:VEVENT
DTSTART;VALUE=DATE:20260409
DTEND;VALUE=DATE:20260411
DTSTAMP:20260419T093245
CREATED:20260129T230207Z
LAST-MODIFIED:20260129T230207Z
UID:10000735-1775692800-1775865599@cab-bc.org
SUMMARY:College of Applied Biologists 2026 Annual Conference
DESCRIPTION:The College’s 2026 Conference is on April 9-10\, 2026 at the Hotel Grand Pacific in Victoria\, BC on the traditional lands of the of the Songhees Nation and the Xwsepsum Nation. Read on for more information about the speakers and panels. \nRegistrants will have the opportunity to participate in the Conference through a live web broadcast. Registrants who attend the Conference will be able to claim a maximum of 14 Continuing Professional Development (CPD) points. More information about CPD can be found here. Conference registration is non-refundable and non-transferable after April 6\, 2026. \nRegistration\nRegistering for the College’s 2026 Conference is easy. Simply navigate to the College’s portal\, log-in\, and select the 2026 Conference from the Events section. \nYou’ll be able to select your ticket\, choose add-ons for additional opportunities to participate\, and checkout — all within the portal! If you don’t have a profile on the College’s portal\, that’s ok. You can quickly sign up with just your name and email and then access the event registration as normal. \nCOSTS\nIn-person and virtual costs are listed here: https://cab-bc.org/about-the-college/college-conference-agm/
URL:https://cab-bc.org/event/college-of-applied-biologists-2026-annual-conference/
LOCATION:Hotel Grand Pacific\, 463 Belleville Street\, Victoria\, BC\, V8W 1X3\, Canada
ORGANIZER;CN="College of Applied Biologists":MAILTO:cab@cab-bc.org
END:VEVENT
BEGIN:VEVENT
DTSTART;TZID=America/Vancouver:20260421T000000
DTEND;TZID=America/Vancouver:20260421T000000
DTSTAMP:20260419T093245
CREATED:20260323T183939Z
LAST-MODIFIED:20260323T183939Z
UID:10000740-1776729600-1776729600@cab-bc.org
SUMMARY:Northern B.C. Ecosystem Restoration Community of Practice Webinar: Introducing the Forest Ecosystem Simulator (ForES) - Kelsey Gritter and Eric Neilson\, Canadian Forest Service
DESCRIPTION:Part of the Northern BC CoP: Lunch ‘n’ Learn Webinar Series \nJoin Kelsey Gritter and Eric Neilson for an overview and demo of the Forest Ecosystem Simulator (ForES). \nForES allows the user to test the outcomes of different harvest prescriptions under climate change to examine the impacts on caribou habitat quality. It simulates both forest succession and wildfire and is a spatially explicit tool.
URL:https://cab-bc.org/event/northern-b-c-ecosystem-restoration-community-of-practice-webinar-introducing-the-forest-ecosystem-simulator-fores-kelsey-gritter-and-eric-neilson-canadian-forest-service/
LOCATION:Online via Teams\, 10207 109 Ave\, Fort St. John\, BC\, V1J 4N5
ORGANIZER;CN="Northern B.C. Ecosystem Restoration Community of Practice":MAILTO:mae.whyte@sernbc.ca
END:VEVENT
BEGIN:VEVENT
DTSTART;TZID=America/Vancouver:20260424T110000
DTEND;TZID=America/Vancouver:20260424T140000
DTSTAMP:20260419T093245
CREATED:20250728T215005Z
LAST-MODIFIED:20251229T223340Z
UID:10000665-1777028400-1777039200@cab-bc.org
SUMMARY:ABWRET-A (F25) Blended Course
DESCRIPTION:The Alberta Wetland Rapid Evaluation Tool – Actual (ABWRET-A) (F25) Blended Course introduces learners to the Government of Alberta’s wetland function assessment tool and its application in the context of Alberta Water Act approvals. The course covers foundational knowledge and practical components relevant to the tool’s use. \nThe course is available anytime following registration\, though the interactive class portion is offered Friday\, April 24\, 2026.
URL:https://cab-bc.org/event/fall-2025-offering-abwret-a-f25-blended-course/
LOCATION:Blended online/offline
END:VEVENT
BEGIN:VEVENT
DTSTART;TZID=America/Vancouver:20260429T000000
DTEND;TZID=America/Vancouver:20260501T000000
DTSTAMP:20260419T093245
CREATED:20260318T175003Z
LAST-MODIFIED:20260318T175003Z
UID:10000737-1777420800-1777593600@cab-bc.org
SUMMARY:Workshop: Improving Restoration Effectiveness in the Northeast
DESCRIPTION:We are excited to announce the upcoming northeast region Community of Practice workshop taking place in Fort St. John from April 29-30 with a field tour May 1. \nThis collaborative event brings together professionals\, Indigenous knowledge holders\, restoration practitioners\, and community leaders to share insights\, build relationships\, and improve restoration effectiveness in northeast B.C. and beyond.
URL:https://cab-bc.org/event/workshop-improving-restoration-effectiveness-in-the-northeast/
LOCATION:North Peace Cultural Centre\, 10015 100 Ave\, Fort St. John\, BC\, V1J 1Y7
ORGANIZER;CN="Northern B.C. Ecosystem Restoration Community of Practice":MAILTO:mae.whyte@sernbc.ca
END:VEVENT
BEGIN:VEVENT
DTSTART;VALUE=DATE:20260603
DTEND;VALUE=DATE:20260606
DTSTAMP:20260419T093245
CREATED:20251124T175444Z
LAST-MODIFIED:20251124T175444Z
UID:10000721-1780444800-1780703999@cab-bc.org
SUMMARY:Indigenous Resource Opportunities Conference
DESCRIPTION:The Indigenous Resource Opportunities Conference is committed to celebrating accomplishments and fostering meaningful\, equitable partnerships that support Indigenous-led economic participation in BC’s Natural Resource Sector. Our objective is to facilitate building enduring partnerships between Indigenous communities and the resource sector through sustainable and respectful resource development. By building these relationships\, IROC seeks to promote inclusivity\, self-determination\, economic empowerment\, and the protection of Indigenous rights and culture at all stages of resource development.
URL:https://cab-bc.org/event/indigenous-resource-opportunities-conference/
LOCATION:Vancouver Island Conference Centre\, 101 Gordon Street\, Nanaimo\, BC\, V9R 5J8\, Canada
ORGANIZER;CN="BC Indigenous Resource Opportunities":MAILTO:info@bciroc.ca
END:VEVENT
BEGIN:VEVENT
DTSTART;TZID=America/Vancouver:20260615T000000
DTEND;TZID=America/Vancouver:20260619T000000
DTSTAMP:20260419T093245
CREATED:20260122T210903Z
LAST-MODIFIED:20260127T214602Z
UID:10000734-1781481600-1781827200@cab-bc.org
SUMMARY:Bat Acoustics Training
DESCRIPTION:Bat Acoustics Training Course – Techniques and Analysis\nInstructor: Dr. Cori Lausen\, WCS Canada Director of Bat Conservation\nLocation: Kamloops\, BC.\nDates: June 15–19\, 2026.\nTo find out more information and to be considered for the 2026 course\, please complete this form as soon as possible: https://tinyurl.com/WCSBatAcousticCourse.\nApplication/inquiry on or before 15 Feb is strongly advised.
URL:https://cab-bc.org/event/bat-acoustics-training/
LOCATION:Kamloops Location\, To Be Determined\, Kamloops\, British Columbia
ORGANIZER;CN="Wildlife Conservation Society Canada":MAILTO:clausen@wcs.org
END:VEVENT
BEGIN:VEVENT
DTSTART;TZID=America/Vancouver:20260622T000000
DTEND;TZID=America/Vancouver:20260624T000000
DTSTAMP:20260419T093245
CREATED:20260202T222013Z
LAST-MODIFIED:20260202T222013Z
UID:10000736-1782086400-1782259200@cab-bc.org
SUMMARY:Fire Effects Monitoring Workshop
DESCRIPTION:Fire is a moment. Monitoring tells the whole story. Fire ecology and fire effects are increasingly recognized as essential to effective prescribed fire\, restoration\, and wildfire risk reduction. This workshop focuses on translating fire behaviour into ecological outcomes. It helps participants deepen their understanding of how fire influences fuels\, vegetation\, and soils (and other values) over time\, well beyond the day of ignition. \nThrough applied field and classroom work\, you will learn how post-fire patterns and severity shape ecosystem response months and years after a burn. It also prepares you with monitoring that can be used to make those effects visible and measurable. The emphasis is on interpretation\, using fire effects knowledge to inform future prescriptions\, adaptive management\, and long-term land stewardship decisions. \nVisit the course page for detailed learning outcomes and the agenda. You do not need any fire experience to achieve value from this workshop.
URL:https://cab-bc.org/event/fire-effects-monitoring-workshop/
LOCATION:Kelowna Fire Department Training Facility\, 2255 Enterprise Way\, Kelowna\, BC\, Kelowna\, British Columbia
ORGANIZER;CN="CR Professional":MAILTO:colleen@crprofessional.ca
END:VEVENT
END:VCALENDAR