BEGIN:VCALENDAR
VERSION:2.0
PRODID:-//College of Applied Biologists - ECPv6.15.18//NONSGML v1.0//EN
CALSCALE:GREGORIAN
METHOD:PUBLISH
X-WR-CALNAME:College of Applied Biologists
X-ORIGINAL-URL:https://cab-bc.org
X-WR-CALDESC:Events for College of Applied Biologists
REFRESH-INTERVAL;VALUE=DURATION:PT1H
X-Robots-Tag:noindex
X-PUBLISHED-TTL:PT1H
BEGIN:VTIMEZONE
TZID:America/Vancouver
BEGIN:DAYLIGHT
TZOFFSETFROM:-0800
TZOFFSETTO:-0700
TZNAME:PDT
DTSTART:20230312T100000
END:DAYLIGHT
BEGIN:STANDARD
TZOFFSETFROM:-0700
TZOFFSETTO:-0800
TZNAME:PST
DTSTART:20231105T090000
END:STANDARD
BEGIN:DAYLIGHT
TZOFFSETFROM:-0800
TZOFFSETTO:-0700
TZNAME:PDT
DTSTART:20240310T100000
END:DAYLIGHT
BEGIN:STANDARD
TZOFFSETFROM:-0700
TZOFFSETTO:-0800
TZNAME:PST
DTSTART:20241103T090000
END:STANDARD
BEGIN:DAYLIGHT
TZOFFSETFROM:-0800
TZOFFSETTO:-0700
TZNAME:PDT
DTSTART:20250309T100000
END:DAYLIGHT
BEGIN:STANDARD
TZOFFSETFROM:-0700
TZOFFSETTO:-0800
TZNAME:PST
DTSTART:20251102T090000
END:STANDARD
END:VTIMEZONE
BEGIN:VEVENT
DTSTART;VALUE=DATE:20240507
DTEND;VALUE=DATE:20240509
DTSTAMP:20260419T195012
CREATED:20240227T191040Z
LAST-MODIFIED:20240227T191040Z
UID:10000239-1715040000-1715212799@cab-bc.org
SUMMARY:BC CESCL Course
DESCRIPTION:The BC-CESCL course is designed to help practitioners understand how to manage erosion and sediment control on their construction projects and understand their obligations under government legislation. Although it most relevant for the “boots on the ground” site personnel and new ESC professionals\, site monitors often take the course and benefit from expanding their knowledge. The two-day course and exam covers erosion and sedimentation processes\, regulatory requirements\, understanding erosion and sediment control plans\, best management practices\, inspections\, and record-keeping.
URL:https://cab-bc.org/event/bc-cescl-course/
LOCATION:Online
END:VEVENT
BEGIN:VEVENT
DTSTART;TZID=America/Vancouver:20240506T090000
DTEND;TZID=America/Vancouver:20240509T120000
DTSTAMP:20260419T195012
CREATED:20240131T224354Z
LAST-MODIFIED:20240131T224354Z
UID:10000194-1714986000-1715256000@cab-bc.org
SUMMARY:Introduction to 'R' Software
DESCRIPTION:An introduction to the programming language R\, presented by CMI. This course will provide tips and tricks to programming in R\, installation of R packages and libraries\, introduction to base R objects and data types\, assign a value to a name\, identify functions\, for loops\, and conditional statements\, read in data from common file types (csv/xlsx)\, and perform mathematical operations and linear regression.
URL:https://cab-bc.org/event/introduction-to-r-software-2/
LOCATION:Online
ORGANIZER;CN="Columbia Mountains Institute of Applied Ecology":MAILTO:office@cmiae.org
END:VEVENT
BEGIN:VEVENT
DTSTART;VALUE=DATE:20240505
DTEND;VALUE=DATE:20240506
DTSTAMP:20260419T195012
CREATED:20240430T164451Z
LAST-MODIFIED:20240430T164451Z
UID:10000309-1714867200-1714953599@cab-bc.org
SUMMARY:VARC's Guided Bird Walks
DESCRIPTION:Vancouver Avian Research Centre (VARC) offers monthly guided bird walks to give people the opportunity to learn and practice their skills with local bird ID experts. British Columbia is home to some of North America’s best birdwatching opportunities and VARC’s guided walks will help you improve your knowledge of BC birds and get to know them – whether you’re an expert birder or just taking off.
URL:https://cab-bc.org/event/varcs-guided-bird-walks-2/
LOCATION:ƛ̓éxətəm Regional Park (Colony Farm)\, Coquitlam\, BC\, Canada
END:VEVENT
BEGIN:VEVENT
DTSTART;TZID=America/Vancouver:20240503T080000
DTEND;TZID=America/Vancouver:20240503T123000
DTSTAMP:20260419T195012
CREATED:20240429T223116Z
LAST-MODIFIED:20240429T223116Z
UID:10000291-1714723200-1714739400@cab-bc.org
SUMMARY:Climate Change: Resilience Planning for Critical Energy Infrastructure
DESCRIPTION:This course presented by EGBC primarily explores the profound effects of climate change on critical energy infrastructures\, with a particular focus on extreme weather events such as wildfires\, floods\, droughts\, and severe storms. Students will be able to learn how these climate-related events affect energy infrastructure\, causing grid stress and disrupting energy infrastructure. There is a strong emphasis in this course on the importance of resilience measures in mitigating climate change’s impacts on energy infrastructure\, as well as fostering adaptability to environmental changes.
URL:https://cab-bc.org/event/climate-change-resilience-planning-for-critical-energy-infrastructure/
LOCATION:Online
ORGANIZER;CN="Engineers and Geoscientists BC":MAILTO:info@egbc.ca
END:VEVENT
BEGIN:VEVENT
DTSTART;VALUE=DATE:20240502
DTEND;VALUE=DATE:20240503
DTSTAMP:20260419T195012
CREATED:20240429T204047Z
LAST-MODIFIED:20240429T204047Z
UID:10000271-1714608000-1714694399@cab-bc.org
SUMMARY:Electrofishing Certification - Online (Self-paced) & Terrace
DESCRIPTION:NRTG is the leading provider of electrofishing training in Canada. Since 1994\,  NRTG staff have successfully trained more than 8\,000 Canadian industry practitioners in the practice of safe and effective electrofishing. By registering for the Electrofishing Certification Terrace Field Session\, you will also be registered in the Electrofishing Certification Self-Paced Training. Please note that the online Self-Paced Training must be completed before attending the Field Session. If the Electrofishing Certification Self-Paced Training is not completed at least 5 days prior to the Field Session\, you will be automatically deregistered from the Field Session.
URL:https://cab-bc.org/event/electrofishing-certification-online-self-paced-terrace-2/
LOCATION:Online/Terrace\, Canada
END:VEVENT
BEGIN:VEVENT
DTSTART;VALUE=DATE:20240501
DTEND;VALUE=DATE:20240502
DTSTAMP:20260419T195012
CREATED:20240429T221120Z
LAST-MODIFIED:20240429T221120Z
UID:10000290-1714521600-1714607999@cab-bc.org
SUMMARY:GeoPro Talks: Why do Toxicity Reference Values (TRVs) Matter at My Contaminated Site?
DESCRIPTION:Although TRVs are regularly used\, they are often not completely understood. This presentation will explain how TRVs are derived\, where you can find TRVs\, and identify differences in TRVs derived by different agencies. Case studies will demonstrate why strong risk assessors should consider the basis of TRVs in their risk conclusions. Presented by GeoEnviroPro.
URL:https://cab-bc.org/event/geopro-talks-why-do-toxicity-reference-values-trvs-matter-at-my-contaminated-site/
LOCATION:Online
END:VEVENT
BEGIN:VEVENT
DTSTART;VALUE=DATE:20240429
DTEND;VALUE=DATE:20240601
DTSTAMP:20260419T195012
CREATED:20240229T002844Z
LAST-MODIFIED:20240229T002844Z
UID:10000243-1714348800-1717199999@cab-bc.org
SUMMARY:Environmental Technician Certificate Program
DESCRIPTION:Presented by the Natural Resources Extension Program at VIU\, the Environmental Technician Certificate Program (ETCP) is a five-week\, 200-hour accredited training program that prepares graduates to work as certified environmental monitors in natural resource sectors. The ETCP program consists of highly applied training sessions\, with field training taking place most days.
URL:https://cab-bc.org/event/environmental-technician-certificate-program-2/
LOCATION:Nanaimo\, BC
ORGANIZER;CN="Vancouver Island University%2C Natural Resources Extension Program":MAILTO:NREP@viu.ca
END:VEVENT
BEGIN:VEVENT
DTSTART;TZID=America/Vancouver:20240426T110000
DTEND;TZID=America/Vancouver:20240426T133000
DTSTAMP:20260419T195012
CREATED:20240131T185029Z
LAST-MODIFIED:20240131T185029Z
UID:10000167-1714129200-1714138200@cab-bc.org
SUMMARY:ABWRET-A Blended Course (W24)
DESCRIPTION:ABWRET-A\, or the Alberta Wetland Rapid Evaluation Tool-Actual is a standardized method for assessing the important natural functions performed by all types of Alberta wetlands using both field and spatial data. SALMTEC has designed this course to provide participants with a strong understanding of the ABWRET-A. This course targets an intermediate audience with some experience working in natural sciences. The course is primarily instructed by Dr. Paul Adamus\, the creator of the wetland evaluation tool\, who lends his voice\, experience and knowledge to this intensive online course.
URL:https://cab-bc.org/event/abwret-a-blended-course-w24/
LOCATION:Blended online/offline
END:VEVENT
BEGIN:VEVENT
DTSTART;TZID=America/Vancouver:20240425T090000
DTEND;TZID=America/Vancouver:20240425T120000
DTSTAMP:20260419T195012
CREATED:20240328T212455Z
LAST-MODIFIED:20240328T212455Z
UID:10000265-1714035600-1714046400@cab-bc.org
SUMMARY:Ministry of Forests' Climate Adaptation Policy Framework Virtual Workshop
DESCRIPTION:The BC Ministry of Forests is inviting you to a virtual three-hour workshop on the development of a Climate Adaptation Policy Framework. The Climate Adaptation Policy Framework will guide the Ministry of Forests’ work on adapting to climate change and establish a consistent approach to integrating climate change adaptation into strategic and operational decision-making. The Ministry of Forests is inviting interest holders from across British Columbia to share perspectives and priorities on how a Climate Adaptation Policy Framework can support resilient forests and communities.
URL:https://cab-bc.org/event/ministry-of-forests-climate-adaptation-policy-framework-virtual-workshop-2/
LOCATION:Online
END:VEVENT
BEGIN:VEVENT
DTSTART;VALUE=DATE:20240424
DTEND;VALUE=DATE:20240427
DTSTAMP:20260419T195012
CREATED:20231004T212751Z
LAST-MODIFIED:20231004T212751Z
UID:10000098-1713916800-1714175999@cab-bc.org
SUMMARY:8th Indigenous Resource Opportunities Conference
DESCRIPTION:The 8th Indigenous Resource Opportunities Conference returns to the Vancouver Island Conference Centre in Nanaimo\, BC next April 24 – 26\, 2024.
URL:https://cab-bc.org/event/8th-indigenous-resource-opportunities-conference/
LOCATION:Vancouver Island Conference Centre\, 101 Gordon Street\, Nanaimo\, BC\, V9R 5J8\, Canada
ORGANIZER;CN="Indigenous Resource Opportunities Conference":MAILTO:info@bciroc.ca
END:VEVENT
BEGIN:VEVENT
DTSTART;TZID=America/Vancouver:20240423T110000
DTEND;TZID=America/Vancouver:20240423T120000
DTSTAMP:20260419T195012
CREATED:20240117T210817Z
LAST-MODIFIED:20240308T232729Z
UID:10000160-1713870000-1713873600@cab-bc.org
SUMMARY:Hydrology & Wetland Design Seminar
DESCRIPTION:Hydrology & Wetland Design Seminar explores the water cycle of a single ecosystem: wetlands when considering wetland components and designing wetlands. Water inputs\, throughputs and outputs\, as well as indicators of wetland function and wetland design\, are discussed and examples provided. Seminar presented by SALMTEC.
URL:https://cab-bc.org/event/hydrology-wetland-design-seminar/
LOCATION:Online
END:VEVENT
BEGIN:VEVENT
DTSTART;TZID=America/Vancouver:20240423T090000
DTEND;TZID=America/Vancouver:20240423T120000
DTSTAMP:20260419T195012
CREATED:20240328T212352Z
LAST-MODIFIED:20240328T212352Z
UID:10000264-1713862800-1713873600@cab-bc.org
SUMMARY:Ministry of Forests' Climate Adaptation Policy Framework Virtual Workshop
DESCRIPTION:The BC Ministry of Forests is inviting you to a virtual three-hour workshop on the development of a Climate Adaptation Policy Framework. The Climate Adaptation Policy Framework will guide the Ministry of Forests’ work on adapting to climate change and establish a consistent approach to integrating climate change adaptation into strategic and operational decision-making. The Ministry of Forests is inviting interest holders from across British Columbia to share perspectives and priorities on how a Climate Adaptation Policy Framework can support resilient forests and communities.
URL:https://cab-bc.org/event/ministry-of-forests-climate-adaptation-policy-framework-virtual-workshop/
LOCATION:Online
END:VEVENT
BEGIN:VEVENT
DTSTART;VALUE=DATE:20240423
DTEND;VALUE=DATE:20240426
DTSTAMP:20260419T195012
CREATED:20240226T234329Z
LAST-MODIFIED:20240226T234329Z
UID:10000214-1713830400-1714089599@cab-bc.org
SUMMARY:Erosion and Sediment Control Practitioner (ESCP) Certificate
DESCRIPTION:Presented by VOI Training Group\, ESCP investigates the fundamentals of erosion and sediment control practice. This starts with a comprehensive discussion of the theory and science of erosion and sediment control\, followed by a critical examination of a broad range of erosion and sediment controls to understand how they actually function\, their control effectiveness\, and comparative benefits/limitations. This course will give the participant the knowledge to: identify the actual control problem; understand what site factors can be manipulated for a control benefit; select the correct control practice(s); and\, implement correct control installation practices. Participants will receive an industry-recognized ESCP Certificate by attending all three days of training and achieving a pass grade on the course knowledge evaluation.
URL:https://cab-bc.org/event/erosion-and-sediment-control-practitioner-escp-certificate/
LOCATION:Online
END:VEVENT
BEGIN:VEVENT
DTSTART;VALUE=DATE:20240423
DTEND;VALUE=DATE:20240424
DTSTAMP:20260419T195012
CREATED:20240306T004111Z
LAST-MODIFIED:20240306T004111Z
UID:10000260-1713830400-1713916799@cab-bc.org
SUMMARY:Electrofishing Certification - Online (Self-paced) & Kamloops
DESCRIPTION:NRTG is the leading provider of electrofishing training in Canada. Since 1994\,  NRTG staff have successfully trained more than 8\,000 Canadian industry practitioners in the practice of safe and effective electrofishing. By registering for the Electrofishing Certification Kamloops Field Session\, you will also be registered in the Electrofishing Certification Self-Paced Training. Please note that the online Self-Paced Training must be completed before attending the Field Session. If the Electrofishing Certification Self-Paced Training is not completed at least 5 days prior to the Field Session\, you will be automatically deregistered from the Field Session.
URL:https://cab-bc.org/event/electrofishing-certification-online-self-paced-kamloops/
LOCATION:Online/Kamloops\, Canada
END:VEVENT
BEGIN:VEVENT
DTSTART;VALUE=DATE:20240423
DTEND;VALUE=DATE:20240424
DTSTAMP:20260419T195012
CREATED:20240201T005050Z
LAST-MODIFIED:20240201T005050Z
UID:10000207-1713830400-1713916799@cab-bc.org
SUMMARY:Technical Writing: Solutions for Effective Written Communication
DESCRIPTION:This webinar presented by EGBC provides practical\, applicable solutions and techniques for how to express your thoughts succinctly in written format. Through a series of hands-on workshops\, you will learn to write effective emails\, technical memos\, letters\, reports\, and other documents. Whether you are a junior employee or a seasoned professional in your technical field\, this seminar will help you to improve your technical writing skills.
URL:https://cab-bc.org/event/technical-writing-solutions-for-effective-written-communication/
LOCATION:Online
ORGANIZER;CN="Engineers and Geoscientists BC":MAILTO:info@egbc.ca
END:VEVENT
BEGIN:VEVENT
DTSTART;TZID=America/Vancouver:20240422T083000
DTEND;TZID=America/Vancouver:20240425T123000
DTSTAMP:20260419T195012
CREATED:20240131T223645Z
LAST-MODIFIED:20240212T231658Z
UID:10000193-1713774600-1714048200@cab-bc.org
SUMMARY:Data Manipulation and Visualization in R
DESCRIPTION:Presented by Columbia Mountains Institute of Applied Ecology\, the course on data manipulation and visualization will provide students with the tools they need to effectively tidy\, transform and visualize their data in R. This course will teach the theory behind tidy data\, setting up a reproducible data pipeline\, introduction in the tidyverse suite of packages\, importing data\, tidying data\, transforming data\, dealing with missing data\, summary statistics\, exploratory data analysis\, data visualizations and writing reports in R markdown. Focus on dplyr\, tidyr and ggplot2 packages from the tidyverse. \nThis course spans four half-days. Students should have a basic working knowledge of R software to take this course. This course is paired with a Ayla’s Intro to R course (next scheduled for May 6-9 and Oct 15-18).
URL:https://cab-bc.org/event/data-manipulation-and-visualization-in-r/
LOCATION:Online
ORGANIZER;CN="Columbia Mountains Institute of Applied Ecology":MAILTO:office@cmiae.org
END:VEVENT
BEGIN:VEVENT
DTSTART;VALUE=DATE:20240422
DTEND;VALUE=DATE:20240525
DTSTAMP:20260419T195012
CREATED:20240306T004503Z
LAST-MODIFIED:20240306T004503Z
UID:10000261-1713744000-1716595199@cab-bc.org
SUMMARY:Land Guardian Program – Online
DESCRIPTION:NRTG’s Land Guardian Program (LGP) meets the increasing demand for skilled and certified guardians employed within communities\, industry\, non-profit organizations\, or regional stakeholder groups. This program combines extensive applied\, field-based training with realistic case study and role-playing exercises that build practical skills and a comprehensive working knowledge of technical procedures as well as analytical and critical thinking skills
URL:https://cab-bc.org/event/land-guardian-program-online/
LOCATION:Online
END:VEVENT
BEGIN:VEVENT
DTSTART;VALUE=DATE:20240422
DTEND;VALUE=DATE:20240504
DTSTAMP:20260419T195012
CREATED:20240306T003843Z
LAST-MODIFIED:20240306T003843Z
UID:10000259-1713744000-1714780799@cab-bc.org
SUMMARY:Fisheries Field Skills Program
DESCRIPTION:Presented by NRTG\, the Fisheries Field Skills Program (FFSP) provides participants with skills and knowledge in WorkSafe-approved backpack electrofishing certification\, fish identification\, fisheries field techniques\, fish and fish habitat inventory and assessment\, stream invertebrate sampling\, streambank restoration and water quality sampling and monitoring.
URL:https://cab-bc.org/event/fisheries-field-skills-program/
LOCATION:Courtenay\, BC\, Canada
END:VEVENT
BEGIN:VEVENT
DTSTART;VALUE=DATE:20240421
DTEND;VALUE=DATE:20240422
DTSTAMP:20260419T195012
CREATED:20240227T185051Z
LAST-MODIFIED:20240227T185754Z
UID:10000236-1713657600-1713743999@cab-bc.org
SUMMARY:VARC's Guided Bird Walks
DESCRIPTION:Vancouver Avian Research Centre (VARC) offers monthly guided bird walks to give people the opportunity to learn and practice their skills with local bird ID experts. British Columbia is home to some of North America’s best birdwatching opportunities and VARC’s guided walks will help you improve your knowledge of BC birds and get to know them – whether you’re an expert birder or just taking off.
URL:https://cab-bc.org/event/varcs-guided-bird-walks/
LOCATION:Terra Nova\, Richmond\, BC\, Canada
END:VEVENT
BEGIN:VEVENT
DTSTART;TZID=America/Vancouver:20240419T083000
DTEND;TZID=America/Vancouver:20240419T113000
DTSTAMP:20260419T195012
CREATED:20240131T235806Z
LAST-MODIFIED:20240131T235806Z
UID:10000200-1713515400-1713526200@cab-bc.org
SUMMARY:How to Negotiate with Indigenous Peoples - Live-Guided Training
DESCRIPTION:Have you developed and implemented an effective consultation and engagement strategy and are now ready to negotiate\, but aren’t sure how to start? Or how to prepare for that all-important first community meeting? This is a 200 level training session building upon the material provided in the Indigenous Relations Academy foundational Working Effectively with Indigenous Peoples® training\, where they focus on the RESPECT model and apply it specifically to the subject of negotiations with Indigenous Peoples.
URL:https://cab-bc.org/event/how-to-negotiate-with-indigenous-peoples-live-guided-training/
LOCATION:Online
END:VEVENT
BEGIN:VEVENT
DTSTART;VALUE=DATE:20240416
DTEND;VALUE=DATE:20240419
DTSTAMP:20260419T195012
CREATED:20240226T233933Z
LAST-MODIFIED:20240226T234004Z
UID:10000213-1713225600-1713484799@cab-bc.org
SUMMARY:Environmental Monitoring for Construction Projects Practitioner (EMCPP) Certificate
DESCRIPTION:Presented by VOI Training Group\, EMCPP explores this complex but often misunderstood environmental management discipline. This course makes the case that Environmental Monitoring for Construction Projects is a challenging occupation requiring broad environmental and construction knowledge and a diverse mix of technical and communication skills. EMCPP explores Environmental Monitoring for Construction Projects professional practices that ensure monitoring outcomes are consistent\, relevant\, defensible\, unambiguous and meet the expectations of project stakeholders. Participants will receive an industry-recognized EMCPP Certificate by attending all three days of training and achieving a pass grade on the course knowledge evaluation.
URL:https://cab-bc.org/event/environmental-monitoring-for-construction-projects-practitioner-emcpp-certificate/
LOCATION:Online
END:VEVENT
BEGIN:VEVENT
DTSTART;VALUE=DATE:20240412
DTEND;VALUE=DATE:20240531
DTSTAMP:20260419T195012
CREATED:20240227T004635Z
LAST-MODIFIED:20240227T004635Z
UID:10000223-1712880000-1717113599@cab-bc.org
SUMMARY:Biophysical Foundations Blended Course
DESCRIPTION:This course presented by SALMTEC provides students with a solid foundation for the understanding of the biophysical environment. Starting from the ground up\, this course guides students to examine soils and landscape features\, creates plant lists\, interpret imagery and field maps\, classify ecosystems\, assess wetland function\, and evaluate wildlife habitat. This course combines online and self-paced learning with interactive classes and field training. Topics include: Alberta Soil Information Viewer\, Alberta Conservation Information Management System\, Grassland Vegetation Inventory\, Alberta Wetland Policy Basics\, and field skills.
URL:https://cab-bc.org/event/biophysical-foundations-blended-course/
LOCATION:Hybrid in-person and virtual
END:VEVENT
BEGIN:VEVENT
DTSTART;TZID=America/Vancouver:20240409T090000
DTEND;TZID=America/Vancouver:20240524T120000
DTSTAMP:20260419T195012
CREATED:20240201T003103Z
LAST-MODIFIED:20240201T003103Z
UID:10000203-1712653200-1716552000@cab-bc.org
SUMMARY:Contaminated Site Fundamentals – From Investigation Through Closure
DESCRIPTION:Presented by GeoEnviroPro\, this training course will cover the fundamentals of contaminated sites science\, engineering and regulation for 42 hours of professional development\, including virtual class time with instructors\, tutorials\, and team assignments. This course will benefit aspiring professionals and new graduates\, as well as project managers and others interested in understanding the fundamentals of Contaminated Sites management and restoration.
URL:https://cab-bc.org/event/contaminated-site-fundamentals-from-investigation-through-closure/
LOCATION:Online
END:VEVENT
BEGIN:VEVENT
DTSTART;VALUE=DATE:20240408
DTEND;VALUE=DATE:20240420
DTSTAMP:20260419T195012
CREATED:20240229T002528Z
LAST-MODIFIED:20240229T002528Z
UID:10000242-1712534400-1713571199@cab-bc.org
SUMMARY:Essential Fisheries Field Skills Certificate Program (EFFS)
DESCRIPTION:Presented by the Natural Resources Extension Program at VIU\, the Essential Fisheries Field Skills Certificate Program (EFFS) is a highly applied\, two-week training program that provides participants with in-demand skills and knowledge in salmonid biology/fish identification\, fisheries field techniques\, fish and fish habitat inventory and assessment (qualitative and quantitative)\, electrofishing certification\, and water quality sampling and monitoring techniques
URL:https://cab-bc.org/event/essential-fisheries-field-skills-certificate-program-effs/
LOCATION:Mission/Maple Ridge\, BC\, Canada
ORGANIZER;CN="Vancouver Island University%2C Natural Resources Extension Program":MAILTO:NREP@viu.ca
END:VEVENT
BEGIN:VEVENT
DTSTART;TZID=America/Vancouver:20240404T183000
DTEND;TZID=America/Vancouver:20240502T203000
DTSTAMP:20260419T195012
CREATED:20240227T185454Z
LAST-MODIFIED:20240227T185454Z
UID:10000237-1712255400-1714681800@cab-bc.org
SUMMARY:Bird ID Course
DESCRIPTION:This Bird ID workshop is designed for beginner and intermediate birders who may wish to participate in citizen science programs like the North American Breeding Bird Survey (BBS) or who just want to take their bird knowledge and identification skills to the next level. Although developed for beginner and intermediate birders the ornithological aspects of the course are highly beneficial for even the most experienced birders and the techniques taught are invaluable for birders traveling overseas.
URL:https://cab-bc.org/event/bird-id-course/
LOCATION:Online
END:VEVENT
BEGIN:VEVENT
DTSTART;VALUE=DATE:20240401
DTEND;VALUE=DATE:20240429
DTSTAMP:20260419T195012
CREATED:20240131T212301Z
LAST-MODIFIED:20240131T212301Z
UID:10000186-1711929600-1714348799@cab-bc.org
SUMMARY:Climate Action and Transition Leadership
DESCRIPTION:The climate crisis is often described as a crisis of leadership. Dominant models of leading are failing to adequately address the magnitude\, complexity\, severity\, and uncertainty of humanity’s interconnected climate and sustainability challenges. Course participants will identify and experiment with leadership mindsets and practices needed to contribute towards the transition to a low-carbon\, socially-inclusive future. Presented by Royal Roads University.
URL:https://cab-bc.org/event/climate-action-and-transition-leadership/
LOCATION:Asynch and Synch Online
END:VEVENT
BEGIN:VEVENT
DTSTART;VALUE=DATE:20240401
DTEND;VALUE=DATE:20240429
DTSTAMP:20260419T195012
CREATED:20240131T211602Z
LAST-MODIFIED:20240131T211602Z
UID:10000184-1711929600-1714348799@cab-bc.org
SUMMARY:Natural Asset Management: An Introduction to Making Nature Count in Canadian Municipalities
DESCRIPTION:This course presented by Royal Roads University covers core concepts\, the most recent case examples and latest approaches to municipal natural asset management and is delivered by the Executive Director of the Natural Assets Initiative. It will provide both essential information to anyone working for\, or with local governments or who is interested in innovative approaches to community sustainability; and an opportunity to discuss with peers and the instructor\, potential approaches to challenges and opportunities in students’ own communities.
URL:https://cab-bc.org/event/natural-asset-management-an-introduction-to-making-nature-count-in-canadian-municipalities/
LOCATION:Online
END:VEVENT
BEGIN:VEVENT
DTSTART;VALUE=DATE:20240311
DTEND;VALUE=DATE:20240525
DTSTAMP:20260419T195012
CREATED:20240209T185440Z
LAST-MODIFIED:20240209T185440Z
UID:10000212-1710115200-1716595199@cab-bc.org
SUMMARY:Wetland Delineation and Assessment Micro-Credential
DESCRIPTION:The Wetland Delineation and Assessment (WDA) non-credit\, micro-credential courses address an urgent need for rigorous\, unbiased training on the assessment and delineation of wetland boundaries\, with topics including wetland classification\, functions and values\, impact assessment and wetland policy. This program is delivered by UBC Continuing and Professional Education.
URL:https://cab-bc.org/event/wetland-delineation-and-assessment-micro-credential/
LOCATION:Blended online/offline
END:VEVENT
BEGIN:VEVENT
DTSTART;VALUE=DATE:20240306
DTEND;VALUE=DATE:20240523
DTSTAMP:20260419T195012
CREATED:20240131T213333Z
LAST-MODIFIED:20240131T213333Z
UID:10000189-1709683200-1716422399@cab-bc.org
SUMMARY:Green Infrastructure: Innovative Approaches to Urban Water Management
DESCRIPTION:Green infrastructure (GI) signals a new chapter in urban water management across the globe. GI provides adaptive nature-based solutions to managing water and helping cities and their inhabitants become more climate resilient. In this course\, participants will discover innovative GI designs\, applications and policies\, as well as equity and environmental justice-based principles in leading\, planning\, and implementing GI approaches. Presented by Simon Fraser University.
URL:https://cab-bc.org/event/green-infrastructure-innovative-approaches-to-urban-water-management/
LOCATION:Online
ORGANIZER;CN="Simon Fraser University":MAILTO:learn@sfu.ca
END:VEVENT
BEGIN:VEVENT
DTSTART;VALUE=DATE:20240306
DTEND;VALUE=DATE:20240425
DTSTAMP:20260419T195012
CREATED:20240131T214445Z
LAST-MODIFIED:20240131T214445Z
UID:10000190-1709683200-1714003199@cab-bc.org
SUMMARY:Strategic Dialogue and Engagement for Climate Adaptation
DESCRIPTION:This course presented by SFU will provide participants with skills to overcome barriers to action\, mobilize knowledge and data effectively\, and work across silos in genuine interdisciplinary and collaborative practice. Participants will learn how to lead or participate in community engagement\, without triggering fear and overwhelming others; practise critical self-awareness and self-reflection; and consider equity-based and decolonizing approaches. This course is designed for professionals looking to advance the intersecting work of climate action and adaptation\, including planners\, engineers\, elected officials and community leaders.
URL:https://cab-bc.org/event/strategic-dialogue-and-engagement-for-climate-adaptation/
LOCATION:Online
ORGANIZER;CN="Simon Fraser University":MAILTO:learn@sfu.ca
END:VEVENT
END:VCALENDAR